BEGIN:VCALENDAR
VERSION:2.0
PRODID:-//Green River Gun Club - ECPv6.15.20//NONSGML v1.0//EN
CALSCALE:GREGORIAN
METHOD:PUBLISH
X-WR-CALNAME:Green River Gun Club
X-ORIGINAL-URL:https://greenrivergunclub.com
X-WR-CALDESC:Events for Green River Gun Club
REFRESH-INTERVAL;VALUE=DURATION:PT1H
X-Robots-Tag:noindex
X-PUBLISHED-TTL:PT1H
BEGIN:VTIMEZONE
TZID:America/Chicago
BEGIN:DAYLIGHT
TZOFFSETFROM:-0600
TZOFFSETTO:-0500
TZNAME:CDT
DTSTART:20200308T080000
END:DAYLIGHT
BEGIN:STANDARD
TZOFFSETFROM:-0500
TZOFFSETTO:-0600
TZNAME:CST
DTSTART:20201101T070000
END:STANDARD
BEGIN:DAYLIGHT
TZOFFSETFROM:-0600
TZOFFSETTO:-0500
TZNAME:CDT
DTSTART:20210314T080000
END:DAYLIGHT
BEGIN:STANDARD
TZOFFSETFROM:-0500
TZOFFSETTO:-0600
TZNAME:CST
DTSTART:20211107T070000
END:STANDARD
BEGIN:DAYLIGHT
TZOFFSETFROM:-0600
TZOFFSETTO:-0500
TZNAME:CDT
DTSTART:20220313T080000
END:DAYLIGHT
BEGIN:STANDARD
TZOFFSETFROM:-0500
TZOFFSETTO:-0600
TZNAME:CST
DTSTART:20221106T070000
END:STANDARD
BEGIN:DAYLIGHT
TZOFFSETFROM:-0600
TZOFFSETTO:-0500
TZNAME:CDT
DTSTART:20230312T080000
END:DAYLIGHT
BEGIN:STANDARD
TZOFFSETFROM:-0500
TZOFFSETTO:-0600
TZNAME:CST
DTSTART:20231105T070000
END:STANDARD
END:VTIMEZONE
BEGIN:VEVENT
DTSTART;TZID=America/Chicago:20220312T080000
DTEND;TZID=America/Chicago:20220312T130000
DTSTAMP:20260424T185958
CREATED:20220130T171408Z
LAST-MODIFIED:20220130T171413Z
UID:10000300-1647072000-1647090000@greenrivergunclub.com
SUMMARY:Cowboy Action Shooting Match
DESCRIPTION:Held at the Cowboy Range adjacent to the Main Range. A typical match is five stages with a round count of 50 pistol\, 50 rifle and 20-25 shotgun. For more information contact Greg Beaty\, 270-498-0134\, Bushrodsass@gmail.com
URL:https://greenrivergunclub.com/event/cowboy-action-shooting-match-4/
ORGANIZER;CN="Greg Beaty<br>":MAILTO:Bushrodsass@gmail.com
END:VEVENT
BEGIN:VEVENT
DTSTART;TZID=America/Chicago:20220303T190000
DTEND;TZID=America/Chicago:20220303T210000
DTSTAMP:20260424T185958
CREATED:20220130T172059Z
LAST-MODIFIED:20220303T202522Z
UID:10000301-1646334000-1646341200@greenrivergunclub.com
SUMMARY:Annual Membership Meeting
DESCRIPTION:Annual Membership Meeting \n\n\n\nMeeting to be held at https://www.bglagala.com/
URL:https://greenrivergunclub.com/event/annual-membership-meeting/
ORGANIZER;CN="Steven Summers":MAILTO:President@GreenRiverGunClub.com
END:VEVENT
BEGIN:VEVENT
DTSTART;TZID=America/Chicago:20220212T080000
DTEND;TZID=America/Chicago:20220212T130000
DTSTAMP:20260424T185958
CREATED:20220130T171132Z
LAST-MODIFIED:20220130T171137Z
UID:10000299-1644652800-1644670800@greenrivergunclub.com
SUMMARY:Cowboy Action Shooting Match
DESCRIPTION:Held at the Cowboy Range adjacent to the Main Range. A typical match is five stages with a round count of 50 pistol\, 50 rifle and 20-25 shotgun. For more information contact Greg Beaty\, 270-498-0134\, Bushrodsass@gmail.com
URL:https://greenrivergunclub.com/event/cowboy-action-shooting-match-3/
ORGANIZER;CN="Greg Beaty<br>":MAILTO:Bushrodsass@gmail.com
END:VEVENT
BEGIN:VEVENT
DTSTART;TZID=America/Chicago:20220129T080000
DTEND;TZID=America/Chicago:20220129T130000
DTSTAMP:20260424T185958
CREATED:20220130T170744Z
LAST-MODIFIED:20220130T170753Z
UID:10000298-1643443200-1643461200@greenrivergunclub.com
SUMMARY:Cowboy Action Shooting Match
DESCRIPTION:Held at the Cowboy Range adjacent to the Main Range. A typical match is five stages with a round count of 50 pistol\, 50 rifle and 20-25 shotgun. Fore more information contact Greg Beaty\, 270-498-0134\, Bushrodsass@gmail.com
URL:https://greenrivergunclub.com/event/cowboy-action-shooting-match-2/
ORGANIZER;CN="Greg Beaty<br>":MAILTO:Bushrodsass@gmail.com
END:VEVENT
BEGIN:VEVENT
DTSTART;TZID=America/Chicago:20220108T080000
DTEND;TZID=America/Chicago:20220108T130000
DTSTAMP:20260424T185958
CREATED:20220130T170523Z
LAST-MODIFIED:20220130T170529Z
UID:10000297-1641628800-1641646800@greenrivergunclub.com
SUMMARY:Cowboy Action Shooting Match
DESCRIPTION:Held at the Cowboy Range adjacent to the Main Range.  A typical match is five stages with a round count of 50 pistol\, 50 rifle and 20-25 shotgun.  Fore more information contact Greg Beaty\, 270-498-0134\, Bushrodsass@gmail.com \n\n\n\n\n\n\n\n\n\n\n\n\n\nGreen River Gunslingers | Facebook
URL:https://greenrivergunclub.com/event/cowboy-action-shooting-match/
ORGANIZER;CN="Greg Beaty<br>":MAILTO:Bushrodsass@gmail.com
END:VEVENT
BEGIN:VEVENT
DTSTART;TZID=America/Chicago:20211211T090000
DTEND;TZID=America/Chicago:20211211T130000
DTSTAMP:20260424T185958
CREATED:20210124T194046Z
LAST-MODIFIED:20210124T194051Z
UID:10000295-1639213200-1639227600@greenrivergunclub.com
SUMMARY:Cowboy Match
DESCRIPTION:
URL:https://greenrivergunclub.com/event/cowboy-match-20/
END:VEVENT
BEGIN:VEVENT
DTSTART;TZID=America/Chicago:20211115T170000
DTEND;TZID=America/Chicago:20211115T200000
DTSTAMP:20260424T185958
CREATED:20210124T193222Z
LAST-MODIFIED:20210124T193228Z
UID:10000293-1636995600-1637006400@greenrivergunclub.com
SUMMARY:Trap
DESCRIPTION:
URL:https://greenrivergunclub.com/event/trap-41/
END:VEVENT
BEGIN:VEVENT
DTSTART;TZID=America/Chicago:20211114T013000
DTEND;TZID=America/Chicago:20211114T163000
DTSTAMP:20260424T185958
CREATED:20210124T192904Z
LAST-MODIFIED:20210124T192905Z
UID:10000291-1636853400-1636907400@greenrivergunclub.com
SUMMARY:Steel Challenge
DESCRIPTION:
URL:https://greenrivergunclub.com/event/steel-challenge-8/
END:VEVENT
BEGIN:VEVENT
DTSTART;TZID=America/Chicago:20211113T090000
DTEND;TZID=America/Chicago:20211113T130000
DTSTAMP:20260424T185958
CREATED:20210124T193538Z
LAST-MODIFIED:20210124T193544Z
UID:10000294-1636794000-1636808400@greenrivergunclub.com
SUMMARY:Cowboy Match
DESCRIPTION:
URL:https://greenrivergunclub.com/event/cowboy-match-17/
END:VEVENT
BEGIN:VEVENT
DTSTART;TZID=America/Chicago:20211101T170000
DTEND;TZID=America/Chicago:20211101T200000
DTSTAMP:20260424T185958
CREATED:20210124T192943Z
LAST-MODIFIED:20210124T192945Z
UID:10000292-1635786000-1635796800@greenrivergunclub.com
SUMMARY:Trap
DESCRIPTION:
URL:https://greenrivergunclub.com/event/trap-39/
END:VEVENT
BEGIN:VEVENT
DTSTART;TZID=America/Chicago:20211030T090000
DTEND;TZID=America/Chicago:20211030T130000
DTSTAMP:20260424T185958
CREATED:20210124T192536Z
LAST-MODIFIED:20210124T192546Z
UID:10000290-1635584400-1635598800@greenrivergunclub.com
SUMMARY:Cowboy Match
DESCRIPTION:
URL:https://greenrivergunclub.com/event/cowboy-match-19/
END:VEVENT
BEGIN:VEVENT
DTSTART;TZID=America/Chicago:20211023T090000
DTEND;TZID=America/Chicago:20211023T130000
DTSTAMP:20260424T185958
CREATED:20210124T191533Z
LAST-MODIFIED:20210124T191649Z
UID:10000288-1634979600-1634994000@greenrivergunclub.com
SUMMARY:ARA Unlimited Class Match
DESCRIPTION:
URL:https://greenrivergunclub.com/event/ara-unlimited-class-match-5/
END:VEVENT
BEGIN:VEVENT
DTSTART;TZID=America/Chicago:20211018T170000
DTEND;TZID=America/Chicago:20211018T200000
DTSTAMP:20260424T185958
CREATED:20210124T191422Z
LAST-MODIFIED:20210124T191432Z
UID:10000287-1634576400-1634587200@greenrivergunclub.com
SUMMARY:Trap
DESCRIPTION:
URL:https://greenrivergunclub.com/event/trap-37/
END:VEVENT
BEGIN:VEVENT
DTSTART;TZID=America/Chicago:20211017T090000
DTEND;TZID=America/Chicago:20211017T130000
DTSTAMP:20260424T185958
CREATED:20210124T191327Z
LAST-MODIFIED:20210124T191328Z
UID:10000286-1634461200-1634475600@greenrivergunclub.com
SUMMARY:ARA Factory Class Match
DESCRIPTION:
URL:https://greenrivergunclub.com/event/ara-factory-class-match-7/
END:VEVENT
BEGIN:VEVENT
DTSTART;TZID=America/Chicago:20211016T090000
DTEND;TZID=America/Chicago:20211016T130000
DTSTAMP:20260424T185958
CREATED:20210124T192126Z
LAST-MODIFIED:20211006T021805Z
UID:10000289-1634374800-1634389200@greenrivergunclub.com
SUMMARY:Cowboy Match
DESCRIPTION:
URL:https://greenrivergunclub.com/event/cowboy-match-18/
END:VEVENT
BEGIN:VEVENT
DTSTART;TZID=America/Chicago:20211016T090000
DTEND;TZID=America/Chicago:20211016T130000
DTSTAMP:20260424T185958
CREATED:20210124T191138Z
LAST-MODIFIED:20210124T191148Z
UID:10000285-1634374800-1634389200@greenrivergunclub.com
SUMMARY:2-Gun Match
DESCRIPTION:
URL:https://greenrivergunclub.com/event/2-gun-match-3/
END:VEVENT
BEGIN:VEVENT
DTSTART;TZID=America/Chicago:20211010T013000
DTEND;TZID=America/Chicago:20211010T163000
DTSTAMP:20260424T185958
CREATED:20210124T190905Z
LAST-MODIFIED:20210124T190907Z
UID:10000284-1633829400-1633883400@greenrivergunclub.com
SUMMARY:Steel Challenge
DESCRIPTION:
URL:https://greenrivergunclub.com/event/steel-challenge-7/
END:VEVENT
BEGIN:VEVENT
DTSTART;TZID=America/Chicago:20211004T170000
DTEND;TZID=America/Chicago:20211004T200000
DTSTAMP:20260424T185958
CREATED:20210124T190558Z
LAST-MODIFIED:20210124T190559Z
UID:10000283-1633366800-1633377600@greenrivergunclub.com
SUMMARY:Trap
DESCRIPTION:
URL:https://greenrivergunclub.com/event/trap-35/
END:VEVENT
BEGIN:VEVENT
DTSTART;TZID=America/Chicago:20211002T080000
DTEND;TZID=America/Chicago:20211002T150000
DTSTAMP:20260424T185958
CREATED:20210119T012100Z
LAST-MODIFIED:20210319T232409Z
UID:10000282-1633161600-1633186800@greenrivergunclub.com
SUMMARY:Military Rifle Match
DESCRIPTION:This is our annual vintage military rifle shoot that features three divisions – open sights\, scoped sniper and sporterized military rifles.  The open sight and scoped sniper divisions are open military rifles in production prior to 1960 that are in original configuration.  The sporterized military rifle division is open to military rifles in production prior to 1960 that have been converted into sporting rifles.  They are “the rifle” that your Uncle Rob brought home from WWII that was restocked for hunting or target shooting.  The sporterized rifle division is shot using iron sights.
URL:https://greenrivergunclub.com/event/military-rifle-match-3/
END:VEVENT
BEGIN:VEVENT
DTSTART;TZID=America/Chicago:20210925T090000
DTEND;TZID=America/Chicago:20210925T130000
DTSTAMP:20260424T185958
CREATED:20210119T011617Z
LAST-MODIFIED:20210119T011619Z
UID:10000281-1632560400-1632574800@greenrivergunclub.com
SUMMARY:ARA Unlimited Class Match
DESCRIPTION:
URL:https://greenrivergunclub.com/event/ara-unlimited-class-match-4/
END:VEVENT
BEGIN:VEVENT
DTSTART;TZID=America/Chicago:20210920T170000
DTEND;TZID=America/Chicago:20210920T200000
DTSTAMP:20260424T185958
CREATED:20210119T011508Z
LAST-MODIFIED:20210119T011512Z
UID:10000280-1632157200-1632168000@greenrivergunclub.com
SUMMARY:Trap
DESCRIPTION:
URL:https://greenrivergunclub.com/event/trap-33/
END:VEVENT
BEGIN:VEVENT
DTSTART;TZID=America/Chicago:20210919T090000
DTEND;TZID=America/Chicago:20210919T130000
DTSTAMP:20260424T185958
CREATED:20210119T011346Z
LAST-MODIFIED:20210119T011348Z
UID:10000279-1632042000-1632056400@greenrivergunclub.com
SUMMARY:ARA Factory Class Match
DESCRIPTION:
URL:https://greenrivergunclub.com/event/ara-factory-class-match-6/
END:VEVENT
BEGIN:VEVENT
DTSTART;TZID=America/Chicago:20210918T183000
DTEND;TZID=America/Chicago:20210918T213000
DTSTAMP:20260424T185958
CREATED:20210119T011219Z
LAST-MODIFIED:20210119T011227Z
UID:10000278-1631989800-1632000600@greenrivergunclub.com
SUMMARY:2-Gun Night Match
DESCRIPTION:
URL:https://greenrivergunclub.com/event/2-gun-night-match-2/
END:VEVENT
BEGIN:VEVENT
DTSTART;TZID=America/Chicago:20210912T133000
DTEND;TZID=America/Chicago:20210912T163000
DTSTAMP:20260424T185958
CREATED:20210119T010433Z
LAST-MODIFIED:20210119T010438Z
UID:10000277-1631453400-1631464200@greenrivergunclub.com
SUMMARY:Steel Challenge
DESCRIPTION:
URL:https://greenrivergunclub.com/event/steel-challenge-6/
END:VEVENT
BEGIN:VEVENT
DTSTART;TZID=America/Chicago:20210911T090000
DTEND;TZID=America/Chicago:20210911T130000
DTSTAMP:20260424T185958
CREATED:20210119T010311Z
LAST-MODIFIED:20210119T010328Z
UID:10000276-1631350800-1631365200@greenrivergunclub.com
SUMMARY:Cowboy Match
DESCRIPTION:
URL:https://greenrivergunclub.com/event/cowboy-match-16/
END:VEVENT
BEGIN:VEVENT
DTSTART;TZID=America/Chicago:20210906T170000
DTEND;TZID=America/Chicago:20210906T200000
DTSTAMP:20260424T185958
CREATED:20210119T010044Z
LAST-MODIFIED:20210119T010107Z
UID:10000275-1630947600-1630958400@greenrivergunclub.com
SUMMARY:Trap
DESCRIPTION:
URL:https://greenrivergunclub.com/event/trap-31/
END:VEVENT
BEGIN:VEVENT
DTSTART;TZID=America/Chicago:20210828T090000
DTEND;TZID=America/Chicago:20210828T130000
DTSTAMP:20260424T185958
CREATED:20210116T234949Z
LAST-MODIFIED:20210116T234954Z
UID:10000274-1630141200-1630155600@greenrivergunclub.com
SUMMARY:ARA Unlimited Match
DESCRIPTION:
URL:https://greenrivergunclub.com/event/ara-unlimited-match-2/
END:VEVENT
BEGIN:VEVENT
DTSTART;TZID=America/Chicago:20210821T090000
DTEND;TZID=America/Chicago:20210821T130000
DTSTAMP:20260424T185958
CREATED:20210116T233328Z
LAST-MODIFIED:20210116T233329Z
UID:10000272-1629536400-1629550800@greenrivergunclub.com
SUMMARY:2-Gun Match
DESCRIPTION:
URL:https://greenrivergunclub.com/event/2-gun-match-2/
END:VEVENT
BEGIN:VEVENT
DTSTART;TZID=America/Chicago:20210816T170000
DTEND;TZID=America/Chicago:20210816T200000
DTSTAMP:20260424T185958
CREATED:20210116T233217Z
LAST-MODIFIED:20210116T233218Z
UID:10000271-1629133200-1629144000@greenrivergunclub.com
SUMMARY:Trap
DESCRIPTION:
URL:https://greenrivergunclub.com/event/trap-28/
END:VEVENT
BEGIN:VEVENT
DTSTART;TZID=America/Chicago:20210815T090000
DTEND;TZID=America/Chicago:20210815T130000
DTSTAMP:20260424T185958
CREATED:20210116T233136Z
LAST-MODIFIED:20210116T233138Z
UID:10000270-1629018000-1629032400@greenrivergunclub.com
SUMMARY:ARA Factory Class Match
DESCRIPTION:
URL:https://greenrivergunclub.com/event/ara-factory-class-match-5/
END:VEVENT
END:VCALENDAR