BEGIN:VCALENDAR
VERSION:2.0
PRODID:-//Green River Gun Club - ECPv6.15.20//NONSGML v1.0//EN
CALSCALE:GREGORIAN
METHOD:PUBLISH
X-WR-CALNAME:Green River Gun Club
X-ORIGINAL-URL:https://greenrivergunclub.com
X-WR-CALDESC:Events for Green River Gun Club
REFRESH-INTERVAL;VALUE=DURATION:PT1H
X-Robots-Tag:noindex
X-PUBLISHED-TTL:PT1H
BEGIN:VTIMEZONE
TZID:America/Chicago
BEGIN:DAYLIGHT
TZOFFSETFROM:-0600
TZOFFSETTO:-0500
TZNAME:CDT
DTSTART:20190310T080000
END:DAYLIGHT
BEGIN:STANDARD
TZOFFSETFROM:-0500
TZOFFSETTO:-0600
TZNAME:CST
DTSTART:20191103T070000
END:STANDARD
BEGIN:DAYLIGHT
TZOFFSETFROM:-0600
TZOFFSETTO:-0500
TZNAME:CDT
DTSTART:20200308T080000
END:DAYLIGHT
BEGIN:STANDARD
TZOFFSETFROM:-0500
TZOFFSETTO:-0600
TZNAME:CST
DTSTART:20201101T070000
END:STANDARD
BEGIN:DAYLIGHT
TZOFFSETFROM:-0600
TZOFFSETTO:-0500
TZNAME:CDT
DTSTART:20210314T080000
END:DAYLIGHT
BEGIN:STANDARD
TZOFFSETFROM:-0500
TZOFFSETTO:-0600
TZNAME:CST
DTSTART:20211107T070000
END:STANDARD
BEGIN:DAYLIGHT
TZOFFSETFROM:-0600
TZOFFSETTO:-0500
TZNAME:CDT
DTSTART:20220313T080000
END:DAYLIGHT
BEGIN:STANDARD
TZOFFSETFROM:-0500
TZOFFSETTO:-0600
TZNAME:CST
DTSTART:20221106T070000
END:STANDARD
END:VTIMEZONE
BEGIN:VEVENT
DTSTART;TZID=America/Chicago:20210531T170000
DTEND;TZID=America/Chicago:20210531T200000
DTSTAMP:20260423T035551
CREATED:20210110T171008Z
LAST-MODIFIED:20210110T171010Z
UID:10000246-1622480400-1622491200@greenrivergunclub.com
SUMMARY:Trap
DESCRIPTION:
URL:https://greenrivergunclub.com/event/trap-17/
END:VEVENT
BEGIN:VEVENT
DTSTART;TZID=America/Chicago:20210529T090000
DTEND;TZID=America/Chicago:20210529T130000
DTSTAMP:20260423T035551
CREATED:20210110T170904Z
LAST-MODIFIED:20210110T170913Z
UID:10000245-1622278800-1622293200@greenrivergunclub.com
SUMMARY:Cowboy Match
DESCRIPTION:
URL:https://greenrivergunclub.com/event/cowboy-match-12/
END:VEVENT
BEGIN:VEVENT
DTSTART;TZID=America/Chicago:20210524T170000
DTEND;TZID=America/Chicago:20210524T200000
DTSTAMP:20260423T035551
CREATED:20210110T170629Z
LAST-MODIFIED:20210110T170636Z
UID:10000244-1621875600-1621886400@greenrivergunclub.com
SUMMARY:Trap
DESCRIPTION:
URL:https://greenrivergunclub.com/event/trap-16/
END:VEVENT
BEGIN:VEVENT
DTSTART;TZID=America/Chicago:20210522T090000
DTEND;TZID=America/Chicago:20210522T130000
DTSTAMP:20260423T035551
CREATED:20210110T165615Z
LAST-MODIFIED:20210110T165616Z
UID:10000242-1621674000-1621688400@greenrivergunclub.com
SUMMARY:ARA Unlimited Class Match
DESCRIPTION:
URL:https://greenrivergunclub.com/event/ara-unlimited-class-match/
END:VEVENT
BEGIN:VEVENT
DTSTART;TZID=America/Chicago:20210522T080000
DTEND;TZID=America/Chicago:20210522T160000
DTSTAMP:20260423T035551
CREATED:20210110T165916Z
LAST-MODIFIED:20210319T232214Z
UID:10000243-1621670400-1621699200@greenrivergunclub.com
SUMMARY:Black Powder Military Match
DESCRIPTION:The match is focused on black powder military firearms of the 18th & 19th centuries.  We also have a side match for military bolt action rifles that were in production prior to WWI.  Firearms can be originals or reproductions if they are in original configuration and caliber.  Shooters will be grouped by firearms type\, e.g. Smoothbore Flintlocks\, Rifled Muskets\, etc.  We will shoot at distances of 50 and 100 yards.
URL:https://greenrivergunclub.com/event/black-powder-military-match/
ORGANIZER;CN="Martin Hickey":MAILTO:Queenannsrevenge2002@yahoo.com
END:VEVENT
BEGIN:VEVENT
DTSTART;TZID=America/Chicago:20210517T170000
DTEND;TZID=America/Chicago:20210517T200000
DTSTAMP:20260423T035551
CREATED:20210110T165431Z
LAST-MODIFIED:20210110T165439Z
UID:10000241-1621270800-1621281600@greenrivergunclub.com
SUMMARY:Trap
DESCRIPTION:
URL:https://greenrivergunclub.com/event/trap-15/
END:VEVENT
BEGIN:VEVENT
DTSTART;TZID=America/Chicago:20210516T090000
DTEND;TZID=America/Chicago:20210516T130000
DTSTAMP:20260423T035551
CREATED:20210110T165240Z
LAST-MODIFIED:20210110T165242Z
UID:10000240-1621155600-1621170000@greenrivergunclub.com
SUMMARY:ARA Factory Class Match
DESCRIPTION:
URL:https://greenrivergunclub.com/event/ara-factory-class-match/
END:VEVENT
BEGIN:VEVENT
DTSTART;TZID=America/Chicago:20210515T090000
DTEND;TZID=America/Chicago:20210515T130000
DTSTAMP:20260423T035551
CREATED:20210110T165115Z
LAST-MODIFIED:20210110T165120Z
UID:10000239-1621069200-1621083600@greenrivergunclub.com
SUMMARY:Two Gun Match
DESCRIPTION:
URL:https://greenrivergunclub.com/event/two-gun-match-3/
END:VEVENT
BEGIN:VEVENT
DTSTART;TZID=America/Chicago:20210510T170000
DTEND;TZID=America/Chicago:20210510T200000
DTSTAMP:20260423T035551
CREATED:20210110T164845Z
LAST-MODIFIED:20210110T164846Z
UID:10000238-1620666000-1620676800@greenrivergunclub.com
SUMMARY:Trap
DESCRIPTION:
URL:https://greenrivergunclub.com/event/trap-14/
END:VEVENT
BEGIN:VEVENT
DTSTART;TZID=America/Chicago:20210509T013000
DTEND;TZID=America/Chicago:20210509T163000
DTSTAMP:20260423T035551
CREATED:20210110T164719Z
LAST-MODIFIED:20210110T164721Z
UID:10000237-1620523800-1620577800@greenrivergunclub.com
SUMMARY:Steel Challenge
DESCRIPTION:
URL:https://greenrivergunclub.com/event/steel-challenge-2/
END:VEVENT
BEGIN:VEVENT
DTSTART;TZID=America/Chicago:20210508T090000
DTEND;TZID=America/Chicago:20210508T130000
DTSTAMP:20260423T035551
CREATED:20210110T164550Z
LAST-MODIFIED:20210319T232748Z
UID:10000236-1620464400-1620478800@greenrivergunclub.com
SUMMARY:Cowboy Match
DESCRIPTION:Cowboy Action Shooting is a modern shooting sport governed by the Single Action Shooting Society in which contestants compete with firearms typical of those used in the taming of the Old West.  Participants use single action revolvers\, pistol caliber lever action rifles and side-by-side double barreled\, pre -1899 pump or lever action shotguns. \n\n\n\nOne of the unique elements of cowboy action shooting is the atmosphere.  Participants dress in historical apparel from the 1840s-1890’s and take on an alias that is used at matches.  Many clubs build shooting ranges with historical facades that range from western towns to riverboats. \n\n\n\nA typical match normally consists of six different shooting stages and lasts three to four hours.  In each stage\, you shoot steel targets using pistols\, rifle and a shotgun.  The round count for a match is 120 pistol and rifle rounds and 26 shotgun rounds.  \n\n\n\nOur SASS affiliated club\, the Green River Gunslingers\, is currently allowing limited use of .22 rimfire ammunition at local matches.  Matches are held on the second Saturday of each month with the safety meeting being held at 09:30 and the match starting at 10:00.
URL:https://greenrivergunclub.com/event/cowboy-match-11/
END:VEVENT
BEGIN:VEVENT
DTSTART;TZID=America/Chicago:20210503T170000
DTEND;TZID=America/Chicago:20210503T200000
DTSTAMP:20260423T035551
CREATED:20210110T164353Z
LAST-MODIFIED:20210110T164401Z
UID:10000235-1620061200-1620072000@greenrivergunclub.com
SUMMARY:Trap
DESCRIPTION:
URL:https://greenrivergunclub.com/event/trap-13/
END:VEVENT
BEGIN:VEVENT
DTSTART;TZID=America/Chicago:20210426T170000
DTEND;TZID=America/Chicago:20210426T200000
DTSTAMP:20260423T035551
CREATED:20210110T034104Z
LAST-MODIFIED:20210110T034105Z
UID:10000234-1619456400-1619467200@greenrivergunclub.com
SUMMARY:Trap
DESCRIPTION:
URL:https://greenrivergunclub.com/event/trap-12/
END:VEVENT
BEGIN:VEVENT
DTSTART;TZID=America/Chicago:20210424T090000
DTEND;TZID=America/Chicago:20210424T130000
DTSTAMP:20260423T035551
CREATED:20210110T034005Z
LAST-MODIFIED:20210110T034009Z
UID:10000233-1619254800-1619269200@greenrivergunclub.com
SUMMARY:ARA Unlimited Match
DESCRIPTION:
URL:https://greenrivergunclub.com/event/ara-unlimited-match/
END:VEVENT
BEGIN:VEVENT
DTSTART;TZID=America/Chicago:20210419T170000
DTEND;TZID=America/Chicago:20210419T200000
DTSTAMP:20260423T035551
CREATED:20210110T033748Z
LAST-MODIFIED:20210110T033750Z
UID:10000232-1618851600-1618862400@greenrivergunclub.com
SUMMARY:Trap
DESCRIPTION:
URL:https://greenrivergunclub.com/event/trap-10/
END:VEVENT
BEGIN:VEVENT
DTSTART;TZID=America/Chicago:20210418T090000
DTEND;TZID=America/Chicago:20210418T130000
DTSTAMP:20260423T035551
CREATED:20210110T033346Z
LAST-MODIFIED:20210110T165318Z
UID:10000231-1618736400-1618750800@greenrivergunclub.com
SUMMARY:ARA Factory Class Match
DESCRIPTION:
URL:https://greenrivergunclub.com/event/ara-factory-class-match-2/
END:VEVENT
BEGIN:VEVENT
DTSTART;TZID=America/Chicago:20210417T090000
DTEND;TZID=America/Chicago:20210417T130000
DTSTAMP:20260423T035551
CREATED:20210110T033042Z
LAST-MODIFIED:20210110T033048Z
UID:10000230-1618650000-1618664400@greenrivergunclub.com
SUMMARY:Two Gun Match
DESCRIPTION:
URL:https://greenrivergunclub.com/event/two-gun-match-2/
END:VEVENT
BEGIN:VEVENT
DTSTART;TZID=America/Chicago:20210412T170000
DTEND;TZID=America/Chicago:20210412T200000
DTSTAMP:20260423T035551
CREATED:20210110T032743Z
LAST-MODIFIED:20210110T032744Z
UID:10000229-1618246800-1618257600@greenrivergunclub.com
SUMMARY:Trap
DESCRIPTION:
URL:https://greenrivergunclub.com/event/trap-11/
END:VEVENT
BEGIN:VEVENT
DTSTART;TZID=America/Chicago:20210411T133000
DTEND;TZID=America/Chicago:20210411T163000
DTSTAMP:20260423T035551
CREATED:20210110T025500Z
LAST-MODIFIED:20210110T031247Z
UID:10000228-1618147800-1618158600@greenrivergunclub.com
SUMMARY:Steel Challenge
DESCRIPTION:
URL:https://greenrivergunclub.com/event/steel-challenge/
END:VEVENT
BEGIN:VEVENT
DTSTART;TZID=America/Chicago:20210410T090000
DTEND;TZID=America/Chicago:20210410T130000
DTSTAMP:20260423T035551
CREATED:20210110T024935Z
LAST-MODIFIED:20210319T232646Z
UID:10000226-1618045200-1618059600@greenrivergunclub.com
SUMMARY:Cowboy Match
DESCRIPTION:Cowboy Action Shooting is a modern shooting sport governed by the Single Action Shooting Society in which contestants compete with firearms typical of those used in the taming of the Old West.  Participants use single action revolvers\, pistol caliber lever action rifles and side-by-side double barreled\, pre -1899 pump or lever action shotguns. \n\n\n\nOne of the unique elements of cowboy action shooting is the atmosphere.  Participants dress in historical apparel from the 1840s-1890’s and take on an alias that is used at matches.  Many clubs build shooting ranges with historical facades that range from western towns to riverboats. \n\n\n\nA typical match normally consists of six different shooting stages and lasts three to four hours.  In each stage\, you shoot steel targets using pistols\, rifle and a shotgun.  The round count for a match is 120 pistol and rifle rounds and 26 shotgun rounds.  \n\n\n\nOur SASS affiliated club\, the Green River Gunslingers\, is currently allowing limited use of .22 rimfire ammunition at local matches.  Matches are held on the second Saturday of each month with the safety meeting being held at 09:30 and the match starting at 10:00.
URL:https://greenrivergunclub.com/event/cowboy/
END:VEVENT
BEGIN:VEVENT
DTSTART;TZID=America/Chicago:20210405T170000
DTEND;TZID=America/Chicago:20210405T200000
DTSTAMP:20260423T035551
CREATED:20210110T025206Z
LAST-MODIFIED:20210110T033901Z
UID:10000227-1617642000-1617652800@greenrivergunclub.com
SUMMARY:Trap
DESCRIPTION:
URL:https://greenrivergunclub.com/event/trap-9/
END:VEVENT
BEGIN:VEVENT
DTSTART;TZID=America/Chicago:20210313T090000
DTEND;TZID=America/Chicago:20210313T130000
DTSTAMP:20260423T035551
CREATED:20210110T024209Z
LAST-MODIFIED:20210319T232553Z
UID:10000225-1615626000-1615640400@greenrivergunclub.com
SUMMARY:Cowboy Match
DESCRIPTION:Cowboy Action Shooting is a modern shooting sport governed by the Single Action Shooting Society in which contestants compete with firearms typical of those used in the taming of the Old West.  Participants use single action revolvers\, pistol caliber lever action rifles and side-by-side double barreled\, pre -1899 pump or lever action shotguns. \n\n\n\nOne of the unique elements of cowboy action shooting is the atmosphere.  Participants dress in historical apparel from the 1840s-1890’s and take on an alias that is used at matches.  Many clubs build shooting ranges with historical facades that range from western towns to riverboats. \n\n\n\nA typical match normally consists of six different shooting stages and lasts three to four hours.  In each stage\, you shoot steel targets using pistols\, rifle and a shotgun.  The round count for a match is 120 pistol and rifle rounds and 26 shotgun rounds.  \n\n\n\nOur SASS affiliated club\, the Green River Gunslingers\, is currently allowing limited use of .22 rimfire ammunition at local matches.  Matches are held on the second Saturday of each month with the safety meeting being held at 09:30 and the match starting at 10:00.
URL:https://greenrivergunclub.com/event/cowboy-match-10/
END:VEVENT
BEGIN:VEVENT
DTSTART;TZID=America/Chicago:20210304T190000
DTEND;TZID=America/Chicago:20210304T203000
DTSTAMP:20260423T035551
CREATED:20210116T234201Z
LAST-MODIFIED:20210211T180116Z
UID:10000273-1614884400-1614889800@greenrivergunclub.com
SUMMARY:GRGC Annual Meeting
DESCRIPTION:
URL:https://greenrivergunclub.com/event/grgc-annual-meeting/
END:VEVENT
BEGIN:VEVENT
DTSTART;TZID=America/Chicago:20210130T080000
DTEND;TZID=America/Chicago:20210130T170000
DTSTAMP:20260423T035551
CREATED:20201110T022741Z
LAST-MODIFIED:20201110T022744Z
UID:10000224-1611993600-1612026000@greenrivergunclub.com
SUMMARY:Cowboy Match
DESCRIPTION:Cowboy Match
URL:https://greenrivergunclub.com/event/cowboy-match-9/
END:VEVENT
BEGIN:VEVENT
DTSTART;TZID=America/Chicago:20210109T080000
DTEND;TZID=America/Chicago:20210109T130000
DTSTAMP:20260423T035551
CREATED:20201110T022320Z
LAST-MODIFIED:20201110T022321Z
UID:10000223-1610179200-1610197200@greenrivergunclub.com
SUMMARY:Cowboy Match
DESCRIPTION:
URL:https://greenrivergunclub.com/event/cowboy-match-7/
LOCATION:Green River Gun Club\, Bowling Green\, KY
END:VEVENT
BEGIN:VEVENT
DTSTART;TZID=America/Chicago:20201212T033000
DTEND;TZID=America/Chicago:20201212T033000
DTSTAMP:20260423T035551
CREATED:20200901T102902Z
LAST-MODIFIED:20200901T102903Z
UID:10000219-1607743800-1607743800@greenrivergunclub.com
SUMMARY:Cowboy Match
DESCRIPTION:Registration @ 09:30\, Match starts at 10:00
URL:https://greenrivergunclub.com/event/cowboy-match-5/
END:VEVENT
BEGIN:VEVENT
DTSTART;TZID=America/Chicago:20201114T093000
DTEND;TZID=America/Chicago:20201114T093000
DTSTAMP:20260423T035551
CREATED:20200901T102810Z
LAST-MODIFIED:20200923T182938Z
UID:10000218-1605346200-1605346200@greenrivergunclub.com
SUMMARY:Cowboy Match
DESCRIPTION:Registration @ 09:30\, Match starts at 10:00
URL:https://greenrivergunclub.com/event/cowboy-match-4/
LOCATION:Green River Gun Club\, 1718 Prices Chapel Rd\, Bowling Green\, Kentucky\, 42101\, United States
END:VEVENT
BEGIN:VEVENT
DTSTART;TZID=America/Chicago:20201107T080000
DTEND;TZID=America/Chicago:20201107T080000
DTSTAMP:20260423T035551
CREATED:20200901T102719Z
LAST-MODIFIED:20200901T102720Z
UID:10000217-1604736000-1604736000@greenrivergunclub.com
SUMMARY:Military Rifle Match
DESCRIPTION:Registration @ 8:00 AM / Match starts @ 9:00 AM
URL:https://greenrivergunclub.com/event/military-rifle-match/
END:VEVENT
BEGIN:VEVENT
DTSTART;TZID=America/Chicago:20201101T130000
DTEND;TZID=America/Chicago:20201101T130000
DTSTAMP:20260423T035551
CREATED:20200901T102627Z
LAST-MODIFIED:20200923T182413Z
UID:10000216-1604235600-1604235600@greenrivergunclub.com
SUMMARY:Steel Plate Match
DESCRIPTION:Shooter’s Meeting @ 1:15 PM\, Match Starts at 1:30 PM
URL:https://greenrivergunclub.com/event/steel-plate-match-3/
LOCATION:Green River Gun Club\, 1718 Prices Chapel Rd\, Bowling Green\, Kentucky\, 42101\, United States
ORGANIZER;CN="Gerry Flanagan":MAILTO:Gflanagan_2000@yahoo.com
END:VEVENT
BEGIN:VEVENT
DTSTART;TZID=America/Chicago:20201031T093000
DTEND;TZID=America/Chicago:20201031T093000
DTSTAMP:20260423T035551
CREATED:20200901T102528Z
LAST-MODIFIED:20200923T182550Z
UID:10000215-1604136600-1604136600@greenrivergunclub.com
SUMMARY:Cowboy Match
DESCRIPTION:Registration @ 09:30\, Match starts at 10:00
URL:https://greenrivergunclub.com/event/cowboy-match-3/
LOCATION:Green River Gun Club\, 1718 Prices Chapel Rd\, Bowling Green\, Kentucky\, 42101\, United States
END:VEVENT
END:VCALENDAR