BEGIN:VCALENDAR
VERSION:2.0
PRODID:-//Green River Gun Club - ECPv6.15.20//NONSGML v1.0//EN
CALSCALE:GREGORIAN
METHOD:PUBLISH
X-WR-CALNAME:Green River Gun Club
X-ORIGINAL-URL:https://greenrivergunclub.com
X-WR-CALDESC:Events for Green River Gun Club
REFRESH-INTERVAL;VALUE=DURATION:PT1H
X-Robots-Tag:noindex
X-PUBLISHED-TTL:PT1H
BEGIN:VTIMEZONE
TZID:America/Chicago
BEGIN:DAYLIGHT
TZOFFSETFROM:-0600
TZOFFSETTO:-0500
TZNAME:CDT
DTSTART:20190310T080000
END:DAYLIGHT
BEGIN:STANDARD
TZOFFSETFROM:-0500
TZOFFSETTO:-0600
TZNAME:CST
DTSTART:20191103T070000
END:STANDARD
BEGIN:DAYLIGHT
TZOFFSETFROM:-0600
TZOFFSETTO:-0500
TZNAME:CDT
DTSTART:20200308T080000
END:DAYLIGHT
BEGIN:STANDARD
TZOFFSETFROM:-0500
TZOFFSETTO:-0600
TZNAME:CST
DTSTART:20201101T070000
END:STANDARD
BEGIN:DAYLIGHT
TZOFFSETFROM:-0600
TZOFFSETTO:-0500
TZNAME:CDT
DTSTART:20210314T080000
END:DAYLIGHT
BEGIN:STANDARD
TZOFFSETFROM:-0500
TZOFFSETTO:-0600
TZNAME:CST
DTSTART:20211107T070000
END:STANDARD
END:VTIMEZONE
BEGIN:VEVENT
DTSTART;TZID=America/Chicago:20200920T130000
DTEND;TZID=America/Chicago:20200920T130000
DTSTAMP:20260423T105623
CREATED:20200901T100549Z
LAST-MODIFIED:20200901T103231Z
UID:10000199-1600606800-1600606800@greenrivergunclub.com
SUMMARY:ARA Factory Class Rimfire Match
DESCRIPTION:
URL:https://greenrivergunclub.com/event/ara-factory-class-rimfire-match-2/
END:VEVENT
BEGIN:VEVENT
DTSTART;TZID=America/Chicago:20200920T090000
DTEND;TZID=America/Chicago:20200920T090000
DTSTAMP:20260423T105623
CREATED:20200901T100516Z
LAST-MODIFIED:20200901T103216Z
UID:10000198-1600592400-1600592400@greenrivergunclub.com
SUMMARY:ARA Factory Class Rimfire Match
DESCRIPTION:1st Match
URL:https://greenrivergunclub.com/event/ara-factory-class-rimfire-match/
END:VEVENT
BEGIN:VEVENT
DTSTART;TZID=America/Chicago:20200919T180000
DTEND;TZID=America/Chicago:20200919T180000
DTSTAMP:20260423T105623
CREATED:20200901T100357Z
LAST-MODIFIED:20200902T125402Z
UID:10000197-1600538400-1600538400@greenrivergunclub.com
SUMMARY:2 Gun night match
DESCRIPTION:The September match is a Night Match and requires attendance to 2 previous matches to participate.   \n\n\n\nMandatory Shooters mtg 6:30 PM
URL:https://greenrivergunclub.com/event/2-gun-night-match/
ORGANIZER;CN="Aaron Cotton":MAILTO:aaron.cotton89@gmail.com
END:VEVENT
BEGIN:VEVENT
DTSTART;TZID=America/Chicago:20200914T170000
DTEND;TZID=America/Chicago:20200914T170000
DTSTAMP:20260423T105623
CREATED:20200901T095650Z
LAST-MODIFIED:20200901T103138Z
UID:10000196-1600102800-1600102800@greenrivergunclub.com
SUMMARY:Trap
DESCRIPTION:
URL:https://greenrivergunclub.com/event/trap-2/
ORGANIZER;CN="Stephen Summers":MAILTO:Mammothoutdoorsjss@gmail.com
END:VEVENT
BEGIN:VEVENT
DTSTART;TZID=America/Chicago:20200912T093000
DTEND;TZID=America/Chicago:20200912T093000
DTSTAMP:20260423T105623
CREATED:20200901T095522Z
LAST-MODIFIED:20200901T103123Z
UID:10000195-1599903000-1599903000@greenrivergunclub.com
SUMMARY:Cowboy Match
DESCRIPTION:Registration @ 09:30\, Match starts at 10:00
URL:https://greenrivergunclub.com/event/cowboy-match/
END:VEVENT
BEGIN:VEVENT
DTSTART;TZID=America/Chicago:20200907T170000
DTEND;TZID=America/Chicago:20200907T170000
DTSTAMP:20260423T105623
CREATED:20200901T095357Z
LAST-MODIFIED:20200901T103111Z
UID:10000194-1599498000-1599498000@greenrivergunclub.com
SUMMARY:Trap
DESCRIPTION:Match starts @ 5:00 PM
URL:https://greenrivergunclub.com/event/trap/
ORGANIZER;CN="Stephen Summers":MAILTO:Mammothoutdoorsjss@gmail.com
END:VEVENT
BEGIN:VEVENT
DTSTART;TZID=America/Chicago:20200906T130000
DTEND;TZID=America/Chicago:20200906T130000
DTSTAMP:20260423T105623
CREATED:20200901T094919Z
LAST-MODIFIED:20200901T103057Z
UID:10000193-1599397200-1599397200@greenrivergunclub.com
SUMMARY:Steel Plate Match
DESCRIPTION:Shooter’s Meeting @ 1:15 PM\, Match Starts at 1:30 PM
URL:https://greenrivergunclub.com/event/steel-plate-match/
ORGANIZER;CN="Gerry Flanagan":MAILTO:Gflanagan_2000@yahoo.com
END:VEVENT
BEGIN:VEVENT
DTSTART;TZID=America/Chicago:20200815T090000
DTEND;TZID=America/Chicago:20200815T130000
DTSTAMP:20260423T105623
CREATED:20200812T072900Z
LAST-MODIFIED:20200812T194236Z
UID:10000192-1597482000-1597496400@greenrivergunclub.com
SUMMARY:2 Gun Match
DESCRIPTION:You must attend the Shooters Meeting to be allowed to shoot.   
URL:https://greenrivergunclub.com/event/843/
END:VEVENT
END:VCALENDAR