BEGIN:VCALENDAR
VERSION:2.0
PRODID:-//Green River Gun Club - ECPv6.15.20//NONSGML v1.0//EN
CALSCALE:GREGORIAN
METHOD:PUBLISH
X-WR-CALNAME:Green River Gun Club
X-ORIGINAL-URL:https://greenrivergunclub.com
X-WR-CALDESC:Events for Green River Gun Club
REFRESH-INTERVAL;VALUE=DURATION:PT1H
X-Robots-Tag:noindex
X-PUBLISHED-TTL:PT1H
BEGIN:VTIMEZONE
TZID:America/Chicago
BEGIN:DAYLIGHT
TZOFFSETFROM:-0600
TZOFFSETTO:-0500
TZNAME:CDT
DTSTART:20220313T080000
END:DAYLIGHT
BEGIN:STANDARD
TZOFFSETFROM:-0500
TZOFFSETTO:-0600
TZNAME:CST
DTSTART:20221106T070000
END:STANDARD
BEGIN:DAYLIGHT
TZOFFSETFROM:-0600
TZOFFSETTO:-0500
TZNAME:CDT
DTSTART:20230312T080000
END:DAYLIGHT
BEGIN:STANDARD
TZOFFSETFROM:-0500
TZOFFSETTO:-0600
TZNAME:CST
DTSTART:20231105T070000
END:STANDARD
BEGIN:DAYLIGHT
TZOFFSETFROM:-0600
TZOFFSETTO:-0500
TZNAME:CDT
DTSTART:20240310T080000
END:DAYLIGHT
BEGIN:STANDARD
TZOFFSETFROM:-0500
TZOFFSETTO:-0600
TZNAME:CST
DTSTART:20241103T070000
END:STANDARD
BEGIN:DAYLIGHT
TZOFFSETFROM:-0600
TZOFFSETTO:-0500
TZNAME:CDT
DTSTART:20250309T080000
END:DAYLIGHT
BEGIN:STANDARD
TZOFFSETFROM:-0500
TZOFFSETTO:-0600
TZNAME:CST
DTSTART:20251102T070000
END:STANDARD
END:VTIMEZONE
BEGIN:VEVENT
DTSTART;TZID=America/Chicago:20240922T130000
DTEND;TZID=America/Chicago:20240922T170000
DTSTAMP:20260421T210719
CREATED:20240112T035713Z
LAST-MODIFIED:20240112T035714Z
UID:10000457-1727010000-1727024400@greenrivergunclub.com
SUMMARY:Steel Plate Match
DESCRIPTION:Steel Plate Match
URL:https://greenrivergunclub.com/event/steel-plate-match-21/
ORGANIZER;CN="Colin Reece":MAILTO:Colin.a.reece@gmail.com
END:VEVENT
BEGIN:VEVENT
DTSTART;TZID=America/Chicago:20240921T080000
DTEND;TZID=America/Chicago:20240921T140000
DTSTAMP:20260421T210719
CREATED:20240228T030810Z
LAST-MODIFIED:20240228T030812Z
UID:10000468-1726905600-1726927200@greenrivergunclub.com
SUMMARY:2-Gun Match
DESCRIPTION:The match will consist of 4-6 stages. Each stage may be rifle only\, pistol only or a combination of both. \n\n\n\nWhile it is set up as a competition\, it is not an overly competitive environment for new shooters. Just come and have fun.  Distances will vary from arm’s length to 150 yards.  Combined round count will not exceed 125 rounds if shot clean.  Stages are set up so they can be completed with only iron sights. \n\n\n\nStages are designed to challenge and increase the shooter’s weapon handling skills through physical exertion as well as shooting from unnatural positions.
URL:https://greenrivergunclub.com/event/2-gun-match-21/
ORGANIZER;CN="Aaron Cotton":MAILTO:aaron.cotton89@gmail.com
END:VEVENT
BEGIN:VEVENT
DTSTART;TZID=America/Chicago:20240910T130000
DTEND;TZID=America/Chicago:20240910T170000
DTSTAMP:20260421T210719
CREATED:20240412T025654Z
LAST-MODIFIED:20240910T110241Z
UID:10000472-1725973200-1725987600@greenrivergunclub.com
SUMMARY:Private Event - Main Range Closed
DESCRIPTION:Private Event – Main Range Closed
URL:https://greenrivergunclub.com/event/private-event-main-range-closed/
ORGANIZER;CN="Steven Summers":MAILTO:President@GreenRiverGunClub.com
END:VEVENT
BEGIN:VEVENT
DTSTART;TZID=America/Chicago:20240825T130000
DTEND;TZID=America/Chicago:20240825T170000
DTSTAMP:20260421T210719
CREATED:20240112T035554Z
LAST-MODIFIED:20240112T035555Z
UID:10000456-1724590800-1724605200@greenrivergunclub.com
SUMMARY:Steel Plate Match
DESCRIPTION:Steel Plate Match
URL:https://greenrivergunclub.com/event/steel-plate-match-20/
ORGANIZER;CN="Colin Reece":MAILTO:Colin.a.reece@gmail.com
END:VEVENT
BEGIN:VEVENT
DTSTART;TZID=America/Chicago:20240817T080000
DTEND;TZID=America/Chicago:20240817T140000
DTSTAMP:20260421T210719
CREATED:20240228T030718Z
LAST-MODIFIED:20240228T030719Z
UID:10000467-1723881600-1723903200@greenrivergunclub.com
SUMMARY:2-Gun Match
DESCRIPTION:The match will consist of 4-6 stages. Each stage may be rifle only\, pistol only or a combination of both. \n\n\n\nWhile it is set up as a competition\, it is not an overly competitive environment for new shooters. Just come and have fun.  Distances will vary from arm’s length to 150 yards.  Combined round count will not exceed 125 rounds if shot clean.  Stages are set up so they can be completed with only iron sights. \n\n\n\nStages are designed to challenge and increase the shooter’s weapon handling skills through physical exertion as well as shooting from unnatural positions.
URL:https://greenrivergunclub.com/event/2-gun-match-20/
ORGANIZER;CN="Aaron Cotton":MAILTO:aaron.cotton89@gmail.com
END:VEVENT
BEGIN:VEVENT
DTSTART;TZID=America/Chicago:20240803T080000
DTEND;TZID=America/Chicago:20240803T170000
DTSTAMP:20260421T210719
CREATED:20230913T020408Z
LAST-MODIFIED:20240109T011112Z
UID:10000447-1722672000-1722704400@greenrivergunclub.com
SUMMARY:9th Annual Vintage Military Rifle Match
DESCRIPTION:9th Annual Vintage Military Rifle Match
URL:https://greenrivergunclub.com/event/9th-annual-vintage-military-rifle-match/
CATEGORIES:military match
ATTACH;FMTTYPE=image/jpeg:https://greenrivergunclub.com/wp-content/uploads/2021/08/SFC-2019-01.jpg
ORGANIZER;CN="Martin Hickey":MAILTO:Queenannsrevenge2002@yahoo.com
END:VEVENT
BEGIN:VEVENT
DTSTART;TZID=America/Chicago:20240728T130000
DTEND;TZID=America/Chicago:20240728T170000
DTSTAMP:20260421T210719
CREATED:20240112T035402Z
LAST-MODIFIED:20240112T035404Z
UID:10000455-1722171600-1722186000@greenrivergunclub.com
SUMMARY:Steel Plate Match
DESCRIPTION:Steel Plate Match
URL:https://greenrivergunclub.com/event/steel-plate-match-19/
ORGANIZER;CN="Colin Reece":MAILTO:Colin.a.reece@gmail.com
END:VEVENT
BEGIN:VEVENT
DTSTART;TZID=America/Chicago:20240720T080000
DTEND;TZID=America/Chicago:20240720T140000
DTSTAMP:20260421T210719
CREATED:20240228T030559Z
LAST-MODIFIED:20240228T030626Z
UID:10000466-1721462400-1721484000@greenrivergunclub.com
SUMMARY:2-Gun Match
DESCRIPTION:The match will consist of 4-6 stages. Each stage may be rifle only\, pistol only or a combination of both. \n\n\n\nWhile it is set up as a competition\, it is not an overly competitive environment for new shooters. Just come and have fun.  Distances will vary from arm’s length to 150 yards.  Combined round count will not exceed 125 rounds if shot clean.  Stages are set up so they can be completed with only iron sights. \n\n\n\nStages are designed to challenge and increase the shooter’s weapon handling skills through physical exertion as well as shooting from unnatural positions.
URL:https://greenrivergunclub.com/event/2-gun-match-19/
ORGANIZER;CN="Aaron Cotton":MAILTO:aaron.cotton89@gmail.com
END:VEVENT
BEGIN:VEVENT
DTSTART;TZID=America/Chicago:20240623T130000
DTEND;TZID=America/Chicago:20240623T170000
DTSTAMP:20260421T210719
CREATED:20240112T035107Z
LAST-MODIFIED:20240112T035108Z
UID:10000454-1719147600-1719162000@greenrivergunclub.com
SUMMARY:Steel Plate Match
DESCRIPTION:Steel Plate Match
URL:https://greenrivergunclub.com/event/steel-plate-match-18/
ORGANIZER;CN="Colin Reece":MAILTO:Colin.a.reece@gmail.com
END:VEVENT
BEGIN:VEVENT
DTSTART;TZID=America/Chicago:20240615T080000
DTEND;TZID=America/Chicago:20240615T140000
DTSTAMP:20260421T210719
CREATED:20240228T030508Z
LAST-MODIFIED:20240228T030509Z
UID:10000465-1718438400-1718460000@greenrivergunclub.com
SUMMARY:2-Gun Match
DESCRIPTION:The match will consist of 4-6 stages. Each stage may be rifle only\, pistol only or a combination of both. \n\n\n\nWhile it is set up as a competition\, it is not an overly competitive environment for new shooters. Just come and have fun.  Distances will vary from arm’s length to 150 yards.  Combined round count will not exceed 125 rounds if shot clean.  Stages are set up so they can be completed with only iron sights. \n\n\n\nStages are designed to challenge and increase the shooter’s weapon handling skills through physical exertion as well as shooting from unnatural positions.
URL:https://greenrivergunclub.com/event/2-gun-match-18/
ORGANIZER;CN="Aaron Cotton":MAILTO:aaron.cotton89@gmail.com
END:VEVENT
BEGIN:VEVENT
DTSTART;TZID=America/Chicago:20240601T070000
DTEND;TZID=America/Chicago:20240601T170000
DTSTAMP:20260421T210719
CREATED:20240525T151312Z
LAST-MODIFIED:20240525T151331Z
UID:10000473-1717225200-1717261200@greenrivergunclub.com
SUMMARY:Range Closed - 4H Shooting Sports Event
DESCRIPTION:Annual Warren County 4H Shooting Sports Event
URL:https://greenrivergunclub.com/event/range-closed-4h-shooting-sports-event/
ORGANIZER;CN="Stephen Summers":MAILTO:Mammothoutdoorsjss@gmail.com
END:VEVENT
BEGIN:VEVENT
DTSTART;TZID=America/Chicago:20240526T130000
DTEND;TZID=America/Chicago:20240526T170000
DTSTAMP:20260421T210719
CREATED:20240112T034838Z
LAST-MODIFIED:20240526T140405Z
UID:10000453-1716728400-1716742800@greenrivergunclub.com
SUMMARY:Steel Plate Match - Cancelled
DESCRIPTION:Steel Plate Match
URL:https://greenrivergunclub.com/event/steel-plate-match-17/
ORGANIZER;CN="Colin Reece":MAILTO:Colin.a.reece@gmail.com
END:VEVENT
BEGIN:VEVENT
DTSTART;TZID=America/Chicago:20240518T080000
DTEND;TZID=America/Chicago:20240518T140000
DTSTAMP:20260421T210719
CREATED:20240228T030406Z
LAST-MODIFIED:20240228T030408Z
UID:10000464-1716019200-1716040800@greenrivergunclub.com
SUMMARY:2-Gun Match
DESCRIPTION:The match will consist of 4-6 stages. Each stage may be rifle only\, pistol only or a combination of both. \n\n\n\nWhile it is set up as a competition\, it is not an overly competitive environment for new shooters. Just come and have fun.  Distances will vary from arm’s length to 150 yards.  Combined round count will not exceed 125 rounds if shot clean.  Stages are set up so they can be completed with only iron sights. \n\n\n\nStages are designed to challenge and increase the shooter’s weapon handling skills through physical exertion as well as shooting from unnatural positions.
URL:https://greenrivergunclub.com/event/2-gun-match-17/
ORGANIZER;CN="Aaron Cotton":MAILTO:aaron.cotton89@gmail.com
END:VEVENT
BEGIN:VEVENT
DTSTART;TZID=America/Chicago:20240511T070000
DTEND;TZID=America/Chicago:20240511T120000
DTSTAMP:20260421T210719
CREATED:20240331T221259Z
LAST-MODIFIED:20240331T221301Z
UID:10000471-1715410800-1715428800@greenrivergunclub.com
SUMMARY:Hunter Education Range Day - Rimfire Range
DESCRIPTION:Hunter Education Class at the Rimfire Range.
URL:https://greenrivergunclub.com/event/hunter-education-range-day-rimfire-range/
END:VEVENT
BEGIN:VEVENT
DTSTART;TZID=America/Chicago:20240428T130000
DTEND;TZID=America/Chicago:20240428T170000
DTSTAMP:20260421T210719
CREATED:20240112T034314Z
LAST-MODIFIED:20240112T034621Z
UID:10000452-1714309200-1714323600@greenrivergunclub.com
SUMMARY:Steel Plate Match
DESCRIPTION:Steel Plate Match  \n\n\n\n\nSteel Plate Match
URL:https://greenrivergunclub.com/event/steel-plate-match-6/
ORGANIZER;CN="Colin Reece":MAILTO:Colin.a.reece@gmail.com
END:VEVENT
BEGIN:VEVENT
DTSTART;TZID=America/Chicago:20240427T080000
DTEND;TZID=America/Chicago:20240427T170000
DTSTAMP:20260421T210719
CREATED:20230817T030129Z
LAST-MODIFIED:20230910T143641Z
UID:10000446-1714204800-1714237200@greenrivergunclub.com
SUMMARY:Black Powder Military Rifle Match
DESCRIPTION:The main range will be closed on April 27th\, for the 5th Annual Black Powder Military Rifle Match.  This match will open for smooth bore and rifled flintlocks\, smooth bore and rifled cap locks\, needle rifles\, and black powder center fire cartridge rifles.  For more information\, please the military match section of the website or post a question of the GRGC Facebook page.
URL:https://greenrivergunclub.com/event/black-powder-military-rifle-match/
CATEGORIES:military match
ORGANIZER;CN="Martin Hickey":MAILTO:Queenannsrevenge2002@yahoo.com
END:VEVENT
BEGIN:VEVENT
DTSTART;TZID=America/Chicago:20240420T080000
DTEND;TZID=America/Chicago:20240420T140000
DTSTAMP:20260421T210719
CREATED:20240228T030307Z
LAST-MODIFIED:20240228T030308Z
UID:10000463-1713600000-1713621600@greenrivergunclub.com
SUMMARY:2-Gun Match
DESCRIPTION:The match will consist of 4-6 stages. Each stage may be rifle only\, pistol only or a combination of both. \n\n\n\nWhile it is set up as a competition\, it is not an overly competitive environment for new shooters. Just come and have fun.  Distances will vary from arm’s length to 150 yards.  Combined round count will not exceed 125 rounds if shot clean.  Stages are set up so they can be completed with only iron sights. \n\n\n\nStages are designed to challenge and increase the shooter’s weapon handling skills through physical exertion as well as shooting from unnatural positions.
URL:https://greenrivergunclub.com/event/2-gun-match-16/
ORGANIZER;CN="Aaron Cotton":MAILTO:aaron.cotton89@gmail.com
END:VEVENT
BEGIN:VEVENT
DTSTART;TZID=America/Chicago:20240406T070000
DTEND;TZID=America/Chicago:20240406T120000
DTSTAMP:20260421T210719
CREATED:20240218T171453Z
LAST-MODIFIED:20240218T171456Z
UID:10000462-1712386800-1712404800@greenrivergunclub.com
SUMMARY:Private Event - Rimfire Range
DESCRIPTION:The Rimfire Range is closed until noon for a private event.
URL:https://greenrivergunclub.com/event/private-event-rimfire-range/
ORGANIZER;CN="Stephen Summers":MAILTO:Mammothoutdoorsjss@gmail.com
END:VEVENT
BEGIN:VEVENT
DTSTART;TZID=America/Chicago:20240404T070000
DTEND;TZID=America/Chicago:20240404T160000
DTSTAMP:20260421T210719
CREATED:20240305T015748Z
LAST-MODIFIED:20240331T220808Z
UID:10000470-1712214000-1712246400@greenrivergunclub.com
SUMMARY:4H Event
DESCRIPTION:The Archery Bag Range\, the Rimfire Range\, Pistol Bays and Shotgun Range will be closed until 4PM for use by the Warren County 4H.
URL:https://greenrivergunclub.com/event/4h-event/
ORGANIZER;CN="Stephen Summers":MAILTO:Mammothoutdoorsjss@gmail.com
END:VEVENT
BEGIN:VEVENT
DTSTART;TZID=America/Chicago:20240307T190000
DTEND;TZID=America/Chicago:20240307T190000
DTSTAMP:20260421T210719
CREATED:20240217T024009Z
LAST-MODIFIED:20240217T024011Z
UID:10000461-1709838000-1709838000@greenrivergunclub.com
SUMMARY:2024 Annual Membership Meeting
DESCRIPTION:
URL:https://greenrivergunclub.com/event/2024-annual-membership-meeting/
END:VEVENT
BEGIN:VEVENT
DTSTART;TZID=America/Chicago:20240128T000000
DTEND;TZID=America/Chicago:20240128T110000
DTSTAMP:20260421T210719
CREATED:20240112T034117Z
LAST-MODIFIED:20240112T034118Z
UID:10000451-1706400000-1706439600@greenrivergunclub.com
SUMMARY:Private Event - Shotgun Range
DESCRIPTION:The Shotgun range will be closed Sunday morning.
URL:https://greenrivergunclub.com/event/private-event-shotgun-range-3/
ORGANIZER;CN="Stephen Summers":MAILTO:Mammothoutdoorsjss@gmail.com
END:VEVENT
BEGIN:VEVENT
DTSTART;TZID=America/Chicago:20240127T070000
DTEND;TZID=America/Chicago:20240127T235900
DTSTAMP:20260421T210719
CREATED:20240112T033959Z
LAST-MODIFIED:20240112T034001Z
UID:10000450-1706338800-1706399940@greenrivergunclub.com
SUMMARY:Private Event - Shotgun Range
DESCRIPTION:The Shotgun range will be closed on Saturday\, January 27th
URL:https://greenrivergunclub.com/event/private-event-shotgun-range-2/
ORGANIZER;CN="Stephen Summers":MAILTO:Mammothoutdoorsjss@gmail.com
END:VEVENT
BEGIN:VEVENT
DTSTART;TZID=America/Chicago:20240127T070000
DTEND;TZID=America/Chicago:20240127T190000
DTSTAMP:20260421T210719
CREATED:20240109T011049Z
LAST-MODIFIED:20240109T011051Z
UID:10000449-1706338800-1706382000@greenrivergunclub.com
SUMMARY:Private Event - Pistol Bay One Closed
DESCRIPTION:There will be a private event taking place in Pistol Bay One on Saturday\, January 27th.  Bays 2-5 will be open.
URL:https://greenrivergunclub.com/event/private-event-pistol-bay-one-closed/
CATEGORIES:Special Events
ORGANIZER;CN="Steven Summers":MAILTO:President@GreenRiverGunClub.com
END:VEVENT
BEGIN:VEVENT
DTSTART;TZID=America/Chicago:20231104T070000
DTEND;TZID=America/Chicago:20231104T170000
DTSTAMP:20260421T210719
CREATED:20230124T030649Z
LAST-MODIFIED:20230903T173341Z
UID:10000395-1699081200-1699117200@greenrivergunclub.com
SUMMARY:Military Pistol Match (Pistol Bays 4\,5 & Shoot House)
DESCRIPTION:2nd Annual GRGC Military Pistol Match
URL:https://greenrivergunclub.com/event/military-pistol-match-pistol-bays-45/
CATEGORIES:military match
ORGANIZER;CN="Martin Hickey":MAILTO:Queenannsrevenge2002@yahoo.com
END:VEVENT
BEGIN:VEVENT
DTSTART;TZID=America/Chicago:20231022T070000
DTEND;TZID=America/Chicago:20231022T170000
DTSTAMP:20260421T210719
CREATED:20230202T015822Z
LAST-MODIFIED:20230202T015822Z
UID:10000433-1697958000-1697994000@greenrivergunclub.com
SUMMARY:ARA Factory Class Club Tournament
DESCRIPTION:The gate opens at 7 AM\, signup is at 8 AM\, and the match will start at 9 AM.  \n\n\n\nWe will have the matches even if it rains unless there are thunderstorms with lightning.
URL:https://greenrivergunclub.com/event/ara-factory-class-club-tournament/
ORGANIZER;CN="Brandon Sanspree":MAILTO:bsanspree@gmail.com
END:VEVENT
BEGIN:VEVENT
DTSTART;TZID=America/Chicago:20231021T170000
DTEND;TZID=America/Chicago:20231021T220000
DTSTAMP:20260421T210719
CREATED:20230202T015607Z
LAST-MODIFIED:20231003T004152Z
UID:10000432-1697907600-1697925600@greenrivergunclub.com
SUMMARY:2-Gun Night Match
DESCRIPTION:Sign up will be at 5PM with the shooters meeting starting at 5:30 PM. \n\n\n\nThe match will consist of 4-6 stages. Each stage may be rifle only\, pistol only or a combination of both. \n\n\n\nWhile it is set up as a competition\, it is not an overly competitive environment for new shooters. Just come and have fun.  Distances will vary from arm’s length to 150 yards.  Combined round count will not exceed 125 rounds if shot clean.  Stages are set up so they can be completed with only iron sights. \n\n\n\nStages are designed to challenge and increase the shooter’s weapon handling skills through physical exertion as well as shooting from unnatural positions.
URL:https://greenrivergunclub.com/event/2-gun-night-match-3/
ORGANIZER;CN="Aaron Cotton":MAILTO:aaron.cotton89@gmail.com
END:VEVENT
BEGIN:VEVENT
DTSTART;TZID=America/Chicago:20231008T130000
DTEND;TZID=America/Chicago:20231008T170000
DTSTAMP:20260421T210719
CREATED:20230202T014730Z
LAST-MODIFIED:20230202T014731Z
UID:10000429-1696770000-1696784400@greenrivergunclub.com
SUMMARY:Steel Plate Match
DESCRIPTION:We typically shoot 3 stages for a match. Each stage is shot five (5) times with the four (4) best scores on the stage being counted. The steel plates will be from 10 to 25 yards away and maybe shot in any order as long as the designated stop plate is hit last. Makeup shots on missed plates are allowed.
URL:https://greenrivergunclub.com/event/steel-plate-match-16/
ORGANIZER;CN="Colin Reece":MAILTO:Colin.a.reece@gmail.com
END:VEVENT
BEGIN:VEVENT
DTSTART;TZID=America/Chicago:20231007T070000
DTEND;TZID=America/Chicago:20231007T170000
DTSTAMP:20260421T210719
CREATED:20230222T041857Z
LAST-MODIFIED:20230222T041859Z
UID:10000440-1696662000-1696698000@greenrivergunclub.com
SUMMARY:KLEMF WKU PD Fund Raiser
DESCRIPTION:The Rim Fire and Pistol Bays will be closed all day.
URL:https://greenrivergunclub.com/event/klemf-wku-pd-fund-raiser/
ORGANIZER;CN="Stephen Summers":MAILTO:Mammothoutdoorsjss@gmail.com
END:VEVENT
BEGIN:VEVENT
DTSTART;TZID=America/Chicago:20231001T080000
DTEND;TZID=America/Chicago:20231001T170000
DTSTAMP:20260421T210719
CREATED:20230913T021231Z
LAST-MODIFIED:20230913T021233Z
UID:10000448-1696147200-1696179600@greenrivergunclub.com
SUMMARY:Test
DESCRIPTION:x
URL:https://greenrivergunclub.com/event/test/
END:VEVENT
BEGIN:VEVENT
DTSTART;TZID=America/Chicago:20230923T080000
DTEND;TZID=America/Chicago:20230923T130000
DTSTAMP:20260421T210719
CREATED:20230817T025016Z
LAST-MODIFIED:20230817T025039Z
UID:10000445-1695456000-1695474000@greenrivergunclub.com
SUMMARY:KDFWR Hunter Education Range Day
DESCRIPTION:The Rimfire Range will be closed during the KDFWR Hunter Education Range Day.   Class times are 09:00 and 10:30.
URL:https://greenrivergunclub.com/event/kdfwr-hunter-education-range-day/
ATTACH;FMTTYPE=image/jpeg:https://greenrivergunclub.com/wp-content/uploads/2021/09/logo__1_.jpg
ORGANIZER;CN="Stephen Summers":MAILTO:Mammothoutdoorsjss@gmail.com
END:VEVENT
END:VCALENDAR