BEGIN:VCALENDAR
VERSION:2.0
PRODID:-//Green River Gun Club - ECPv6.15.20//NONSGML v1.0//EN
CALSCALE:GREGORIAN
METHOD:PUBLISH
X-ORIGINAL-URL:https://greenrivergunclub.com
X-WR-CALDESC:Events for Green River Gun Club
REFRESH-INTERVAL;VALUE=DURATION:PT1H
X-Robots-Tag:noindex
X-PUBLISHED-TTL:PT1H
BEGIN:VTIMEZONE
TZID:America/Chicago
BEGIN:DAYLIGHT
TZOFFSETFROM:-0600
TZOFFSETTO:-0500
TZNAME:CDT
DTSTART:20210314T080000
END:DAYLIGHT
BEGIN:STANDARD
TZOFFSETFROM:-0500
TZOFFSETTO:-0600
TZNAME:CST
DTSTART:20211107T070000
END:STANDARD
BEGIN:DAYLIGHT
TZOFFSETFROM:-0600
TZOFFSETTO:-0500
TZNAME:CDT
DTSTART:20220313T080000
END:DAYLIGHT
BEGIN:STANDARD
TZOFFSETFROM:-0500
TZOFFSETTO:-0600
TZNAME:CST
DTSTART:20221106T070000
END:STANDARD
BEGIN:DAYLIGHT
TZOFFSETFROM:-0600
TZOFFSETTO:-0500
TZNAME:CDT
DTSTART:20230312T080000
END:DAYLIGHT
BEGIN:STANDARD
TZOFFSETFROM:-0500
TZOFFSETTO:-0600
TZNAME:CST
DTSTART:20231105T070000
END:STANDARD
END:VTIMEZONE
BEGIN:VEVENT
DTSTART;TZID=America/Chicago:20220416T080000
DTEND;TZID=America/Chicago:20220416T130000
DTSTAMP:20260423T012814
CREATED:20220130T174443Z
LAST-MODIFIED:20220130T174448Z
UID:10000304-1650096000-1650114000@greenrivergunclub.com
SUMMARY:2-Gun Match
DESCRIPTION:The match will consist of 4-6 stages. Each stage may be rifle only\, pistol only or a combination of both. \n\n\n\nWhile it is set up as a competition\, it is not an overly competitive environment for new shooters. Just come and have fun.  Distances will vary from arm’s length to 150 yards.  Combined round count will not exceed 125 rounds if shot clean.  Stages are set up so they can be completed with only iron sights. \n\n\n\nStages are designed to challenge and increase the shooter’s weapon handling skills through physical exertion as well as shooting from unnatural positions. 
URL:https://greenrivergunclub.com/event/2-gun-match-4/
ORGANIZER;CN="Aaron Cotton":MAILTO:aaron.cotton89@gmail.com
END:VEVENT
END:VCALENDAR