BEGIN:VCALENDAR
VERSION:2.0
PRODID:-//Green River Gun Club - ECPv6.15.20//NONSGML v1.0//EN
CALSCALE:GREGORIAN
METHOD:PUBLISH
X-ORIGINAL-URL:https://greenrivergunclub.com
X-WR-CALDESC:Events for Green River Gun Club
REFRESH-INTERVAL;VALUE=DURATION:PT1H
X-Robots-Tag:noindex
X-PUBLISHED-TTL:PT1H
BEGIN:VTIMEZONE
TZID:America/Chicago
BEGIN:DAYLIGHT
TZOFFSETFROM:-0600
TZOFFSETTO:-0500
TZNAME:CDT
DTSTART:20190310T080000
END:DAYLIGHT
BEGIN:STANDARD
TZOFFSETFROM:-0500
TZOFFSETTO:-0600
TZNAME:CST
DTSTART:20191103T070000
END:STANDARD
BEGIN:DAYLIGHT
TZOFFSETFROM:-0600
TZOFFSETTO:-0500
TZNAME:CDT
DTSTART:20200308T080000
END:DAYLIGHT
BEGIN:STANDARD
TZOFFSETFROM:-0500
TZOFFSETTO:-0600
TZNAME:CST
DTSTART:20201101T070000
END:STANDARD
BEGIN:DAYLIGHT
TZOFFSETFROM:-0600
TZOFFSETTO:-0500
TZNAME:CDT
DTSTART:20210314T080000
END:DAYLIGHT
BEGIN:STANDARD
TZOFFSETFROM:-0500
TZOFFSETTO:-0600
TZNAME:CST
DTSTART:20211107T070000
END:STANDARD
BEGIN:DAYLIGHT
TZOFFSETFROM:-0600
TZOFFSETTO:-0500
TZNAME:CDT
DTSTART:20220313T080000
END:DAYLIGHT
BEGIN:STANDARD
TZOFFSETFROM:-0500
TZOFFSETTO:-0600
TZNAME:CST
DTSTART:20221106T070000
END:STANDARD
BEGIN:DAYLIGHT
TZOFFSETFROM:-0600
TZOFFSETTO:-0500
TZNAME:CDT
DTSTART:20230312T080000
END:DAYLIGHT
BEGIN:STANDARD
TZOFFSETFROM:-0500
TZOFFSETTO:-0600
TZNAME:CST
DTSTART:20231105T070000
END:STANDARD
BEGIN:DAYLIGHT
TZOFFSETFROM:-0600
TZOFFSETTO:-0500
TZNAME:CDT
DTSTART:20240310T080000
END:DAYLIGHT
BEGIN:STANDARD
TZOFFSETFROM:-0500
TZOFFSETTO:-0600
TZNAME:CST
DTSTART:20241103T070000
END:STANDARD
BEGIN:DAYLIGHT
TZOFFSETFROM:-0600
TZOFFSETTO:-0500
TZNAME:CDT
DTSTART:20250309T080000
END:DAYLIGHT
BEGIN:STANDARD
TZOFFSETFROM:-0500
TZOFFSETTO:-0600
TZNAME:CST
DTSTART:20251102T070000
END:STANDARD
END:VTIMEZONE
BEGIN:VEVENT
DTSTART;TZID=America/Chicago:20240518T080000
DTEND;TZID=America/Chicago:20240518T140000
DTSTAMP:20260421T113602
CREATED:20240228T030406Z
LAST-MODIFIED:20240228T030408Z
UID:10000464-1716019200-1716040800@greenrivergunclub.com
SUMMARY:2-Gun Match
DESCRIPTION:The match will consist of 4-6 stages. Each stage may be rifle only\, pistol only or a combination of both. \n\n\n\nWhile it is set up as a competition\, it is not an overly competitive environment for new shooters. Just come and have fun.  Distances will vary from arm’s length to 150 yards.  Combined round count will not exceed 125 rounds if shot clean.  Stages are set up so they can be completed with only iron sights. \n\n\n\nStages are designed to challenge and increase the shooter’s weapon handling skills through physical exertion as well as shooting from unnatural positions.
URL:https://greenrivergunclub.com/event/2-gun-match-17/
ORGANIZER;CN="Aaron Cotton":MAILTO:aaron.cotton89@gmail.com
END:VEVENT
BEGIN:VEVENT
DTSTART;TZID=America/Chicago:20240420T080000
DTEND;TZID=America/Chicago:20240420T140000
DTSTAMP:20260421T113602
CREATED:20240228T030307Z
LAST-MODIFIED:20240228T030308Z
UID:10000463-1713600000-1713621600@greenrivergunclub.com
SUMMARY:2-Gun Match
DESCRIPTION:The match will consist of 4-6 stages. Each stage may be rifle only\, pistol only or a combination of both. \n\n\n\nWhile it is set up as a competition\, it is not an overly competitive environment for new shooters. Just come and have fun.  Distances will vary from arm’s length to 150 yards.  Combined round count will not exceed 125 rounds if shot clean.  Stages are set up so they can be completed with only iron sights. \n\n\n\nStages are designed to challenge and increase the shooter’s weapon handling skills through physical exertion as well as shooting from unnatural positions.
URL:https://greenrivergunclub.com/event/2-gun-match-16/
ORGANIZER;CN="Aaron Cotton":MAILTO:aaron.cotton89@gmail.com
END:VEVENT
BEGIN:VEVENT
DTSTART;TZID=America/Chicago:20231021T170000
DTEND;TZID=America/Chicago:20231021T220000
DTSTAMP:20260421T113602
CREATED:20230202T015607Z
LAST-MODIFIED:20231003T004152Z
UID:10000432-1697907600-1697925600@greenrivergunclub.com
SUMMARY:2-Gun Night Match
DESCRIPTION:Sign up will be at 5PM with the shooters meeting starting at 5:30 PM. \n\n\n\nThe match will consist of 4-6 stages. Each stage may be rifle only\, pistol only or a combination of both. \n\n\n\nWhile it is set up as a competition\, it is not an overly competitive environment for new shooters. Just come and have fun.  Distances will vary from arm’s length to 150 yards.  Combined round count will not exceed 125 rounds if shot clean.  Stages are set up so they can be completed with only iron sights. \n\n\n\nStages are designed to challenge and increase the shooter’s weapon handling skills through physical exertion as well as shooting from unnatural positions.
URL:https://greenrivergunclub.com/event/2-gun-night-match-3/
ORGANIZER;CN="Aaron Cotton":MAILTO:aaron.cotton89@gmail.com
END:VEVENT
BEGIN:VEVENT
DTSTART;TZID=America/Chicago:20230916T080000
DTEND;TZID=America/Chicago:20230916T140000
DTSTAMP:20260421T113602
CREATED:20230201T030856Z
LAST-MODIFIED:20230201T030857Z
UID:10000425-1694851200-1694872800@greenrivergunclub.com
SUMMARY:2-Gun Match
DESCRIPTION:The match will consist of 4-6 stages. Each stage may be rifle only\, pistol only or a combination of both. \n\n\n\nWhile it is set up as a competition\, it is not an overly competitive environment for new shooters. Just come and have fun.  Distances will vary from arm’s length to 150 yards.  Combined round count will not exceed 125 rounds if shot clean.  Stages are set up so they can be completed with only iron sights. \n\n\n\nStages are designed to challenge and increase the shooter’s weapon handling skills through physical exertion as well as shooting from unnatural positions.
URL:https://greenrivergunclub.com/event/2-gun-match-15/
ORGANIZER;CN="Aaron Cotton":MAILTO:aaron.cotton89@gmail.com
END:VEVENT
BEGIN:VEVENT
DTSTART;TZID=America/Chicago:20230819T080000
DTEND;TZID=America/Chicago:20230819T140000
DTSTAMP:20260421T113602
CREATED:20230201T015929Z
LAST-MODIFIED:20230201T015930Z
UID:10000419-1692432000-1692453600@greenrivergunclub.com
SUMMARY:2-Gun Match
DESCRIPTION:The match will consist of 4-6 stages. Each stage may be rifle only\, pistol only or a combination of both. \n\n\n\nWhile it is set up as a competition\, it is not an overly competitive environment for new shooters. Just come and have fun.  Distances will vary from arm’s length to 150 yards.  Combined round count will not exceed 125 rounds if shot clean.  Stages are set up so they can be completed with only iron sights. \n\n\n\nStages are designed to challenge and increase the shooter’s weapon handling skills through physical exertion as well as shooting from unnatural positions.
URL:https://greenrivergunclub.com/event/2-gun-match-14/
ORGANIZER;CN="Aaron Cotton":MAILTO:aaron.cotton89@gmail.com
END:VEVENT
BEGIN:VEVENT
DTSTART;TZID=America/Chicago:20230715T080000
DTEND;TZID=America/Chicago:20230715T140000
DTSTAMP:20260421T113602
CREATED:20230124T030131Z
LAST-MODIFIED:20230131T025705Z
UID:10000393-1689408000-1689429600@greenrivergunclub.com
SUMMARY:2-Gun Match
DESCRIPTION:The match will consist of 4-6 stages. Each stage may be rifle only\, pistol only or a combination of both. \n\n\n\nWhile it is set up as a competition\, it is not an overly competitive environment for new shooters. Just come and have fun.  Distances will vary from arm’s length to 150 yards.  Combined round count will not exceed 125 rounds if shot clean.  Stages are set up so they can be completed with only iron sights. \n\n\n\nStages are designed to challenge and increase the shooter’s weapon handling skills through physical exertion as well as shooting from unnatural positions.
URL:https://greenrivergunclub.com/event/2-gun-match-12/
ORGANIZER;CN="Aaron Cotton":MAILTO:aaron.cotton89@gmail.com
END:VEVENT
BEGIN:VEVENT
DTSTART;TZID=America/Chicago:20230617T080000
DTEND;TZID=America/Chicago:20230617T140000
DTSTAMP:20260421T113602
CREATED:20230124T030934Z
LAST-MODIFIED:20230124T030935Z
UID:10000396-1686988800-1687010400@greenrivergunclub.com
SUMMARY:2-Gun Match
DESCRIPTION:The match will consist of 4-6 stages. Each stage may be rifle only\, pistol only or a combination of both. \n\n\n\nWhile it is set up as a competition\, it is not an overly competitive environment for new shooters. Just come and have fun.  Distances will vary from arm’s length to 150 yards.  Combined round count will not exceed 125 rounds if shot clean.  Stages are set up so they can be completed with only iron sights. \n\n\n\nStages are designed to challenge and increase the shooter’s weapon handling skills through physical exertion as well as shooting from unnatural positions.
URL:https://greenrivergunclub.com/event/2-gun-match-13/
ORGANIZER;CN="Aaron Cotton":MAILTO:aaron.cotton89@gmail.com
END:VEVENT
BEGIN:VEVENT
DTSTART;TZID=America/Chicago:20230520T080000
DTEND;TZID=America/Chicago:20230520T150000
DTSTAMP:20260421T113602
CREATED:20230124T025458Z
LAST-MODIFIED:20230124T025459Z
UID:10000390-1684569600-1684594800@greenrivergunclub.com
SUMMARY:2-Gun Match
DESCRIPTION:The match will consist of 4-6 stages. Each stage may be rifle only\, pistol only or a combination of both. \n\n\n\nWhile it is set up as a competition\, it is not an overly competitive environment for new shooters. Just come and have fun.  Distances will vary from arm’s length to 150 yards.  Combined round count will not exceed 125 rounds if shot clean.  Stages are set up so they can be completed with only iron sights. \n\n\n\nStages are designed to challenge and increase the shooter’s weapon handling skills through physical exertion as well as shooting from unnatural positions.
URL:https://greenrivergunclub.com/event/2-gun-match-11/
ORGANIZER;CN="Aaron Cotton":MAILTO:aaron.cotton89@gmail.com
END:VEVENT
BEGIN:VEVENT
DTSTART;TZID=America/Chicago:20230415T080000
DTEND;TZID=America/Chicago:20230415T150000
DTSTAMP:20260421T113602
CREATED:20230124T025040Z
LAST-MODIFIED:20230124T025041Z
UID:10000389-1681545600-1681570800@greenrivergunclub.com
SUMMARY:2-Gun Match
DESCRIPTION:The match will consist of 4-6 stages. Each stage may be rifle only\, pistol only or a combination of both. \n\n\n\nWhile it is set up as a competition\, it is not an overly competitive environment for new shooters. Just come and have fun.  Distances will vary from arm’s length to 150 yards.  Combined round count will not exceed 125 rounds if shot clean.  Stages are set up so they can be completed with only iron sights. \n\n\n\nStages are designed to challenge and increase the shooter’s weapon handling skills through physical exertion as well as shooting from unnatural positions.
URL:https://greenrivergunclub.com/event/2-gun-match-10/
ORGANIZER;CN="Aaron Cotton":MAILTO:aaron.cotton89@gmail.com
END:VEVENT
BEGIN:VEVENT
DTSTART;TZID=America/Chicago:20221015T080000
DTEND;TZID=America/Chicago:20221015T150000
DTSTAMP:20260421T113602
CREATED:20220202T033409Z
LAST-MODIFIED:20220621T022537Z
UID:10000354-1665820800-1665846000@greenrivergunclub.com
SUMMARY:2-Gun Match
DESCRIPTION:The match will consist of 4-6 stages. Each stage may be rifle only\, pistol only or a combination of both. \n\n\n\nWhile it is set up as a competition\, it is not an overly competitive environment for new shooters. Just come and have fun.  Distances will vary from arm’s length to 150 yards.  Combined round count will not exceed 125 rounds if shot clean.  Stages are set up so they can be completed with only iron sights. \n\n\n\nStages are designed to challenge and increase the shooter’s weapon handling skills through physical exertion as well as shooting from unnatural positions. 
URL:https://greenrivergunclub.com/event/2-gun-match-9/
ORGANIZER;CN="Aaron Cotton":MAILTO:aaron.cotton89@gmail.com
END:VEVENT
BEGIN:VEVENT
DTSTART;TZID=America/Chicago:20220917T080000
DTEND;TZID=America/Chicago:20220917T150000
DTSTAMP:20260421T113602
CREATED:20220202T025744Z
LAST-MODIFIED:20220621T022643Z
UID:10000347-1663401600-1663426800@greenrivergunclub.com
SUMMARY:2-Gun Match
DESCRIPTION:The match will consist of 4-6 stages. Each stage may be rifle only\, pistol only or a combination of both. \n\n\n\nWhile it is set up as a competition\, it is not an overly competitive environment for new shooters. Just come and have fun.  Distances will vary from arm’s length to 150 yards.  Combined round count will not exceed 125 rounds if shot clean.  Stages are set up so they can be completed with only iron sights. \n\n\n\nStages are designed to challenge and increase the shooter’s weapon handling skills through physical exertion as well as shooting from unnatural positions. 
URL:https://greenrivergunclub.com/event/2-gun-match-8/
ORGANIZER;CN="Aaron Cotton":MAILTO:aaron.cotton89@gmail.com
END:VEVENT
BEGIN:VEVENT
DTSTART;TZID=America/Chicago:20220820T080000
DTEND;TZID=America/Chicago:20220820T150000
DTSTAMP:20260421T113602
CREATED:20220201T034154Z
LAST-MODIFIED:20220621T022719Z
UID:10000339-1660982400-1661007600@greenrivergunclub.com
SUMMARY:2-Gun Match
DESCRIPTION:The match will consist of 4-6 stages. Each stage may be rifle only\, pistol only or a combination of both. \n\n\n\nWhile it is set up as a competition\, it is not an overly competitive environment for new shooters. Just come and have fun.  Distances will vary from arm’s length to 150 yards.  Combined round count will not exceed 125 rounds if shot clean.  Stages are set up so they can be completed with only iron sights. \n\n\n\nStages are designed to challenge and increase the shooter’s weapon handling skills through physical exertion as well as shooting from unnatural positions. 
URL:https://greenrivergunclub.com/event/2-gun/
ORGANIZER;CN="Aaron Cotton":MAILTO:aaron.cotton89@gmail.com
END:VEVENT
BEGIN:VEVENT
DTSTART;TZID=America/Chicago:20220716T080000
DTEND;TZID=America/Chicago:20220716T150000
DTSTAMP:20260421T113602
CREATED:20220201T014957Z
LAST-MODIFIED:20220621T022801Z
UID:10000330-1657958400-1657983600@greenrivergunclub.com
SUMMARY:2-Gun Match
DESCRIPTION:The match will consist of 4-6 stages. Each stage may be rifle only\, pistol only or a combination of both. \n\n\n\nWhile it is set up as a competition\, it is not an overly competitive environment for new shooters. Just come and have fun.  Distances will vary from arm’s length to 150 yards.  Combined round count will not exceed 125 rounds if shot clean.  Stages are set up so they can be completed with only iron sights. \n\n\n\nStages are designed to challenge and increase the shooter’s weapon handling skills through physical exertion as well as shooting from unnatural positions. 
URL:https://greenrivergunclub.com/event/2-gun-match-7/
ORGANIZER;CN="Aaron Cotton":MAILTO:aaron.cotton89@gmail.com
END:VEVENT
BEGIN:VEVENT
DTSTART;TZID=America/Chicago:20220618T080000
DTEND;TZID=America/Chicago:20220618T150000
DTSTAMP:20260421T113602
CREATED:20220201T013207Z
LAST-MODIFIED:20220621T022839Z
UID:10000322-1655539200-1655564400@greenrivergunclub.com
SUMMARY:2-Gun Match
DESCRIPTION:The match will consist of 4-6 stages. Each stage may be rifle only\, pistol only or a combination of both. \n\n\n\nWhile it is set up as a competition\, it is not an overly competitive environment for new shooters. Just come and have fun.  Distances will vary from arm’s length to 150 yards.  Combined round count will not exceed 125 rounds if shot clean.  Stages are set up so they can be completed with only iron sights. \n\n\n\nStages are designed to challenge and increase the shooter’s weapon handling skills through physical exertion as well as shooting from unnatural positions. 
URL:https://greenrivergunclub.com/event/2-gun-match-6/
ORGANIZER;CN="Aaron Cotton":MAILTO:aaron.cotton89@gmail.com
END:VEVENT
BEGIN:VEVENT
DTSTART;TZID=America/Chicago:20220521T080000
DTEND;TZID=America/Chicago:20220521T150000
DTSTAMP:20260421T113602
CREATED:20220131T011915Z
LAST-MODIFIED:20220621T022913Z
UID:10000316-1653120000-1653145200@greenrivergunclub.com
SUMMARY:2-Gun Match
DESCRIPTION:The match will consist of 4-6 stages. Each stage may be rifle only\, pistol only or a combination of both. \n\n\n\nWhile it is set up as a competition\, it is not an overly competitive environment for new shooters. Just come and have fun.  Distances will vary from arm’s length to 150 yards.  Combined round count will not exceed 125 rounds if shot clean.  Stages are set up so they can be completed with only iron sights. \n\n\n\nStages are designed to challenge and increase the shooter’s weapon handling skills through physical exertion as well as shooting from unnatural positions. 
URL:https://greenrivergunclub.com/event/2-gun-match-5/
ORGANIZER;CN="Aaron Cotton":MAILTO:aaron.cotton89@gmail.com
END:VEVENT
BEGIN:VEVENT
DTSTART;TZID=America/Chicago:20201017T090000
DTEND;TZID=America/Chicago:20201017T090000
DTSTAMP:20260421T113602
CREATED:20200901T101657Z
LAST-MODIFIED:20200901T101658Z
UID:10000208-1602925200-1602925200@greenrivergunclub.com
SUMMARY:Two Gun Match
DESCRIPTION:
URL:https://greenrivergunclub.com/event/two-gun-match/
ORGANIZER;CN="Aaron Cotton":MAILTO:aaron.cotton89@gmail.com
END:VEVENT
BEGIN:VEVENT
DTSTART;TZID=America/Chicago:20200919T180000
DTEND;TZID=America/Chicago:20200919T180000
DTSTAMP:20260421T113602
CREATED:20200901T100357Z
LAST-MODIFIED:20200902T125402Z
UID:10000197-1600538400-1600538400@greenrivergunclub.com
SUMMARY:2 Gun night match
DESCRIPTION:The September match is a Night Match and requires attendance to 2 previous matches to participate.   \n\n\n\nMandatory Shooters mtg 6:30 PM
URL:https://greenrivergunclub.com/event/2-gun-night-match/
ORGANIZER;CN="Aaron Cotton":MAILTO:aaron.cotton89@gmail.com
END:VEVENT
END:VCALENDAR