BEGIN:VCALENDAR
VERSION:2.0
PRODID:-//Green River Gun Club - ECPv6.15.20//NONSGML v1.0//EN
CALSCALE:GREGORIAN
METHOD:PUBLISH
X-WR-CALNAME:Green River Gun Club
X-ORIGINAL-URL:https://greenrivergunclub.com
X-WR-CALDESC:Events for Green River Gun Club
REFRESH-INTERVAL;VALUE=DURATION:PT1H
X-Robots-Tag:noindex
X-PUBLISHED-TTL:PT1H
BEGIN:VTIMEZONE
TZID:America/Chicago
BEGIN:DAYLIGHT
TZOFFSETFROM:-0600
TZOFFSETTO:-0500
TZNAME:CDT
DTSTART:20210314T080000
END:DAYLIGHT
BEGIN:STANDARD
TZOFFSETFROM:-0500
TZOFFSETTO:-0600
TZNAME:CST
DTSTART:20211107T070000
END:STANDARD
BEGIN:DAYLIGHT
TZOFFSETFROM:-0600
TZOFFSETTO:-0500
TZNAME:CDT
DTSTART:20220313T080000
END:DAYLIGHT
BEGIN:STANDARD
TZOFFSETFROM:-0500
TZOFFSETTO:-0600
TZNAME:CST
DTSTART:20221106T070000
END:STANDARD
BEGIN:DAYLIGHT
TZOFFSETFROM:-0600
TZOFFSETTO:-0500
TZNAME:CDT
DTSTART:20230312T080000
END:DAYLIGHT
BEGIN:STANDARD
TZOFFSETFROM:-0500
TZOFFSETTO:-0600
TZNAME:CST
DTSTART:20231105T070000
END:STANDARD
BEGIN:DAYLIGHT
TZOFFSETFROM:-0600
TZOFFSETTO:-0500
TZNAME:CDT
DTSTART:20240310T080000
END:DAYLIGHT
BEGIN:STANDARD
TZOFFSETFROM:-0500
TZOFFSETTO:-0600
TZNAME:CST
DTSTART:20241103T070000
END:STANDARD
END:VTIMEZONE
BEGIN:VEVENT
DTSTART;TZID=America/Chicago:20231022T070000
DTEND;TZID=America/Chicago:20231022T170000
DTSTAMP:20260423T084228
CREATED:20230202T015822Z
LAST-MODIFIED:20230202T015822Z
UID:10000433-1697958000-1697994000@greenrivergunclub.com
SUMMARY:ARA Factory Class Club Tournament
DESCRIPTION:The gate opens at 7 AM\, signup is at 8 AM\, and the match will start at 9 AM.  \n\n\n\nWe will have the matches even if it rains unless there are thunderstorms with lightning.
URL:https://greenrivergunclub.com/event/ara-factory-class-club-tournament/
ORGANIZER;CN="Brandon Sanspree":MAILTO:bsanspree@gmail.com
END:VEVENT
BEGIN:VEVENT
DTSTART;TZID=America/Chicago:20230917T070000
DTEND;TZID=America/Chicago:20230917T140000
DTSTAMP:20260423T084228
CREATED:20230201T031105Z
LAST-MODIFIED:20230201T031106Z
UID:10000426-1694934000-1694959200@greenrivergunclub.com
SUMMARY:ARA Unlimited Class Club Tournament
DESCRIPTION:The gate opens at 7 AM\, signup is at 8 AM\, and the match will start at 9 AM.  \n\n\n\nWe will have the matches even if it rains unless there are thunderstorms with lightning.
URL:https://greenrivergunclub.com/event/ara-unlimited-class-club-tournament/
ORGANIZER;CN="Brandon Sanspree":MAILTO:bsanspree@gmail.com
END:VEVENT
BEGIN:VEVENT
DTSTART;TZID=America/Chicago:20230820T070000
DTEND;TZID=America/Chicago:20230820T140000
DTSTAMP:20260423T084228
CREATED:20230201T020150Z
LAST-MODIFIED:20230201T020151Z
UID:10000420-1692514800-1692540000@greenrivergunclub.com
SUMMARY:ARA Unlimited Class Match
DESCRIPTION:The gate opens at 7 AM\, signup is at 8 AM\, and the match will start at 9 AM.  \n\n\n\nWe will have the matches even if it rains unless there are thunderstorms with lightning.
URL:https://greenrivergunclub.com/event/ara-unlimited-class-match-7/
ORGANIZER;CN="Brandon Sanspree":MAILTO:bsanspree@gmail.com
END:VEVENT
BEGIN:VEVENT
DTSTART;TZID=America/Chicago:20230716T070000
DTEND;TZID=America/Chicago:20230716T140000
DTSTAMP:20260423T084228
CREATED:20230131T025542Z
LAST-MODIFIED:20230131T025542Z
UID:10000407-1689490800-1689516000@greenrivergunclub.com
SUMMARY:ARA Factory Class Rimfire Match
DESCRIPTION:The gate opens at 7 AM\, signup is at 8 AM\, and the match will start at 9 AM.  \n\n\n\nWe will have the matches even if it rains unless there are thunderstorms with lightning.
URL:https://greenrivergunclub.com/event/ara-factory-class-rimfire-match-6/
ORGANIZER;CN="Brandon Sanspree":MAILTO:bsanspree@gmail.com
END:VEVENT
BEGIN:VEVENT
DTSTART;TZID=America/Chicago:20230618T070000
DTEND;TZID=America/Chicago:20230618T140000
DTSTAMP:20260423T084228
CREATED:20230131T023555Z
LAST-MODIFIED:20230131T023555Z
UID:10000400-1687071600-1687096800@greenrivergunclub.com
SUMMARY:ARA Unlimited Club Tournament
DESCRIPTION:The gate opens at 7 AM\, signup is at 8 AM\, and the match will start at 9 AM.  \n\n\n\nWe will have the matches even if it rains unless there are thunderstorms with lightning.
URL:https://greenrivergunclub.com/event/ara-unlimited-club-tournament/
ORGANIZER;CN="Brandon Sanspree":MAILTO:bsanspree@gmail.com
END:VEVENT
BEGIN:VEVENT
DTSTART;TZID=America/Chicago:20230521T070000
DTEND;TZID=America/Chicago:20230521T140000
DTSTAMP:20260423T084228
CREATED:20230131T023235Z
LAST-MODIFIED:20230131T023235Z
UID:10000399-1684652400-1684677600@greenrivergunclub.com
SUMMARY:ARA Factory Class Rimfire Match
DESCRIPTION:The gate opens at 7 AM\, signup is at 8 AM\, and the match will start at 9 AM.  \n\n\n\nWe will have the matches even if it rains unless there are thunderstorms with lightning.
URL:https://greenrivergunclub.com/event/ara-factory-class-rimfire-match-5/
ORGANIZER;CN="Brandon Sanspree":MAILTO:bsanspree@gmail.com
END:VEVENT
BEGIN:VEVENT
DTSTART;TZID=America/Chicago:20230416T080000
DTEND;TZID=America/Chicago:20230416T150000
DTSTAMP:20260423T084228
CREATED:20230131T022115Z
LAST-MODIFIED:20230131T022116Z
UID:10000397-1681632000-1681657200@greenrivergunclub.com
SUMMARY:ARA Unlimited Class Match
DESCRIPTION:The gate opens at 7 AM\, signup is at 8 AM\, and the match will start at 9 AM.  \n\n\n\nWe will have the matches even if it rains unless there are thunderstorms with lightning. \n\n\n\n\n\n\n\n\n\n$25.00
URL:https://greenrivergunclub.com/event/ara-unlimited-class-match-6/
ORGANIZER;CN="Brandon Sanspree":MAILTO:bsanspree@gmail.com
END:VEVENT
BEGIN:VEVENT
DTSTART;TZID=America/Chicago:20221016T080000
DTEND;TZID=America/Chicago:20221016T130000
DTSTAMP:20260423T084228
CREATED:20220202T033557Z
LAST-MODIFIED:20220215T022557Z
UID:10000355-1665907200-1665925200@greenrivergunclub.com
SUMMARY:ARA Factory Class Match
DESCRIPTION:Matches will be held on the 3rd Sunday of each month from April through October in 2022.  The gate will be open by 8 am. We will start the matches at 9 am sharp. We will have the matches even if it rains\, unless there are thunderstorms with lightning.
URL:https://greenrivergunclub.com/event/ara-factory-class-match-14/
ORGANIZER;CN="Brandon Sanspree":MAILTO:bsanspree@gmail.com
END:VEVENT
BEGIN:VEVENT
DTSTART;TZID=America/Chicago:20220924T080000
DTEND;TZID=America/Chicago:20220924T130000
DTSTAMP:20260423T084228
CREATED:20220202T031659Z
LAST-MODIFIED:20220215T023639Z
UID:10000349-1664006400-1664024400@greenrivergunclub.com
SUMMARY:ARA Unlimited Match
DESCRIPTION:Matches will be held on the 4th Saturday of each month from April through October in 2022.  The gate will be open before 8 am. We will start the matches at 9 am sharp. We will have the matches even if it rains\, unless there are thunderstorms with lightning.
URL:https://greenrivergunclub.com/event/ara-unlimited-match-8/
ORGANIZER;CN="Brandon Sanspree":MAILTO:bsanspree@gmail.com
END:VEVENT
BEGIN:VEVENT
DTSTART;TZID=America/Chicago:20220918T080000
DTEND;TZID=America/Chicago:20220918T130000
DTSTAMP:20260423T084228
CREATED:20220202T030027Z
LAST-MODIFIED:20220215T022407Z
UID:10000348-1663488000-1663506000@greenrivergunclub.com
SUMMARY:ARA Factory Class Match
DESCRIPTION:Matches will be held on the 3rd Sunday of each month from April through October in 2022.  The gate will be open by 8 am. We will start the matches at 9 am sharp. We will have the matches even if it rains\, unless there are thunderstorms with lightning.
URL:https://greenrivergunclub.com/event/ara-factory-class-match-13/
ORGANIZER;CN="Brandon Sanspree":MAILTO:bsanspree@gmail.com
END:VEVENT
BEGIN:VEVENT
DTSTART;TZID=America/Chicago:20220827T080000
DTEND;TZID=America/Chicago:20220827T130000
DTSTAMP:20260423T084228
CREATED:20220201T034556Z
LAST-MODIFIED:20220215T022249Z
UID:10000341-1661587200-1661605200@greenrivergunclub.com
SUMMARY:ARA Unlimited Match
DESCRIPTION:Matches will be held on the 4th Saturday of each month from April through October in 2022.  The gate will be open before 8 am. We will start the matches at 9 am sharp. We will have the matches even if it rains\, unless there are thunderstorms with lightning.
URL:https://greenrivergunclub.com/event/ara-unlimited-match-7/
ORGANIZER;CN="Brandon Sanspree":MAILTO:bsanspree@gmail.com
END:VEVENT
BEGIN:VEVENT
DTSTART;TZID=America/Chicago:20220821T080000
DTEND;TZID=America/Chicago:20220821T130000
DTSTAMP:20260423T084228
CREATED:20220201T034416Z
LAST-MODIFIED:20220215T022145Z
UID:10000340-1661068800-1661086800@greenrivergunclub.com
SUMMARY:ARA Factory Class Match
DESCRIPTION:Matches will be held on the 3rd Sunday of each month from April through October in 2022.  The gate will be open by 8 am. We will start the matches at 9 am sharp. We will have the matches even if it rains\, unless there are thunderstorms with lightning.
URL:https://greenrivergunclub.com/event/ara-factory-class-match-12/
ORGANIZER;CN="Brandon Sanspree":MAILTO:bsanspree@gmail.com
END:VEVENT
BEGIN:VEVENT
DTSTART;TZID=America/Chicago:20220723T080000
DTEND;TZID=America/Chicago:20220723T130000
DTSTAMP:20260423T084228
CREATED:20220201T015510Z
LAST-MODIFIED:20220215T021939Z
UID:10000333-1658563200-1658581200@greenrivergunclub.com
SUMMARY:ARA Unlimited Match
DESCRIPTION:Matches will be held on the 4th Saturday of each month from April through October in 2022.  Each match will be 5 cards.  The gate will be open before 8 am. We will start the matches at 9 am sharp. We will have the matches even if it rains\, unless there are thunderstorms with lightning.
URL:https://greenrivergunclub.com/event/ara-unlimited-match-6/
ORGANIZER;CN="Brandon Sanspree":MAILTO:bsanspree@gmail.com
END:VEVENT
BEGIN:VEVENT
DTSTART;TZID=America/Chicago:20220717T080000
DTEND;TZID=America/Chicago:20220717T130000
DTSTAMP:20260423T084228
CREATED:20220201T015139Z
LAST-MODIFIED:20220215T021725Z
UID:10000331-1658044800-1658062800@greenrivergunclub.com
SUMMARY:ARA Factory Class Match
DESCRIPTION:Matches will be held on the 3rd Sunday of each month from April through October in 2022. The gate will be open by 8 am. We will start the matches at 9 am sharp. We will have the matches even if it rains\, unless there are thunderstorms with lightning.
URL:https://greenrivergunclub.com/event/ara-factory-class-match-11/
ORGANIZER;CN="Brandon Sanspree":MAILTO:bsanspree@gmail.com
END:VEVENT
BEGIN:VEVENT
DTSTART;TZID=America/Chicago:20220625T080000
DTEND;TZID=America/Chicago:20220625T130000
DTSTAMP:20260423T084228
CREATED:20220201T013909Z
LAST-MODIFIED:20220215T021447Z
UID:10000325-1656144000-1656162000@greenrivergunclub.com
SUMMARY:ARA Unlimited Match
DESCRIPTION:Matches will be held on the 4th Saturday of each month from April through October in 2022.  The gate will be open before 8 am. We will start the matches at 9 am sharp. We will have the matches even if it rains\, unless there are thunderstorms with lightning.
URL:https://greenrivergunclub.com/event/ara-unlimited-match-5/
ORGANIZER;CN="Brandon Sanspree":MAILTO:bsanspree@gmail.com
END:VEVENT
BEGIN:VEVENT
DTSTART;TZID=America/Chicago:20220619T080000
DTEND;TZID=America/Chicago:20220619T130000
DTSTAMP:20260423T084228
CREATED:20220201T013435Z
LAST-MODIFIED:20220215T021237Z
UID:10000323-1655625600-1655643600@greenrivergunclub.com
SUMMARY:ARA Factory Class Match
DESCRIPTION:Matches will be held on the 3rd Sunday of each month from April through October in 2022.  The gate will be open by 8 am. We will start the matches at 9 am sharp. We will have the matches even if it rains\, unless there are thunderstorms with lightning.
URL:https://greenrivergunclub.com/event/ara-factory-class-match-10/
ORGANIZER;CN="Brandon Sanspree":MAILTO:bsanspree@gmail.com
END:VEVENT
BEGIN:VEVENT
DTSTART;TZID=America/Chicago:20220528T080000
DTEND;TZID=America/Chicago:20220528T130000
DTSTAMP:20260423T084228
CREATED:20220131T012247Z
LAST-MODIFIED:20220215T020913Z
UID:10000317-1653724800-1653742800@greenrivergunclub.com
SUMMARY:ARA Unlimited Match
DESCRIPTION:Matches will be held on the 4th Saturday of each month from April through October in 2022.  Each match will be 5 cards.  The gate will be open before 8 am. We will start the matches at 9 am sharp. We will have the matches even if it rains\, unless there are thunderstorms with lightning.
URL:https://greenrivergunclub.com/event/ara-unlimited-match-4/
ORGANIZER;CN="Brandon Sanspree":MAILTO:bsanspree@gmail.com
END:VEVENT
BEGIN:VEVENT
DTSTART;TZID=America/Chicago:20220515T090000
DTEND;TZID=America/Chicago:20220515T130000
DTSTAMP:20260423T084228
CREATED:20220418T234127Z
LAST-MODIFIED:20220418T234133Z
UID:10000365-1652605200-1652619600@greenrivergunclub.com
SUMMARY:ARA Factory Class Match
DESCRIPTION:Matches will be held on the 3rd Sunday of each month from April through October in 2022.  The gate will be open by 8 am. We will start the matches at 9 am sharp. We will have the matches even if it rains\, unless there are thunderstorms with lightning.  This match will be 6 cards.  The match fee is $40.00.
URL:https://greenrivergunclub.com/event/ara-factory-class-match-9/
LOCATION:https://greenrivergunclub.com/ara-factory-class-match/
ORGANIZER;CN="Brandon Sanspree":MAILTO:bsanspree@gmail.com
END:VEVENT
BEGIN:VEVENT
DTSTART;TZID=America/Chicago:20220417T080000
DTEND;TZID=America/Chicago:20220417T130000
DTSTAMP:20260423T084228
CREATED:20220130T181301Z
LAST-MODIFIED:20220215T020433Z
UID:10000307-1650182400-1650200400@greenrivergunclub.com
SUMMARY:ARA Factory Class Match
DESCRIPTION:Matches will be held on the 3rd Sunday of each month from April through October in 2022.  The gate will be open by 8 am. We will start the matches at 9 am sharp. We will have the matches even if it rains\, unless there are thunderstorms with lightning.
URL:https://greenrivergunclub.com/event/ara-factory-class-match-8/
ORGANIZER;CN="Brandon Sanspree":MAILTO:bsanspree@gmail.com
END:VEVENT
END:VCALENDAR