BEGIN:VCALENDAR
VERSION:2.0
PRODID:-//Green River Gun Club - ECPv6.15.20//NONSGML v1.0//EN
CALSCALE:GREGORIAN
METHOD:PUBLISH
X-ORIGINAL-URL:https://greenrivergunclub.com
X-WR-CALDESC:Events for Green River Gun Club
REFRESH-INTERVAL;VALUE=DURATION:PT1H
X-Robots-Tag:noindex
X-PUBLISHED-TTL:PT1H
BEGIN:VTIMEZONE
TZID:America/Chicago
BEGIN:DAYLIGHT
TZOFFSETFROM:-0600
TZOFFSETTO:-0500
TZNAME:CDT
DTSTART:20210314T080000
END:DAYLIGHT
BEGIN:STANDARD
TZOFFSETFROM:-0500
TZOFFSETTO:-0600
TZNAME:CST
DTSTART:20211107T070000
END:STANDARD
BEGIN:DAYLIGHT
TZOFFSETFROM:-0600
TZOFFSETTO:-0500
TZNAME:CDT
DTSTART:20220313T080000
END:DAYLIGHT
BEGIN:STANDARD
TZOFFSETFROM:-0500
TZOFFSETTO:-0600
TZNAME:CST
DTSTART:20221106T070000
END:STANDARD
BEGIN:DAYLIGHT
TZOFFSETFROM:-0600
TZOFFSETTO:-0500
TZNAME:CDT
DTSTART:20230312T080000
END:DAYLIGHT
BEGIN:STANDARD
TZOFFSETFROM:-0500
TZOFFSETTO:-0600
TZNAME:CST
DTSTART:20231105T070000
END:STANDARD
END:VTIMEZONE
BEGIN:VEVENT
DTSTART;TZID=America/Chicago:20220723T080000
DTEND;TZID=America/Chicago:20220723T130000
DTSTAMP:20260423T084736
CREATED:20220201T015510Z
LAST-MODIFIED:20220215T021939Z
UID:10000333-1658563200-1658581200@greenrivergunclub.com
SUMMARY:ARA Unlimited Match
DESCRIPTION:Matches will be held on the 4th Saturday of each month from April through October in 2022.  Each match will be 5 cards.  The gate will be open before 8 am. We will start the matches at 9 am sharp. We will have the matches even if it rains\, unless there are thunderstorms with lightning.
URL:https://greenrivergunclub.com/event/ara-unlimited-match-6/
ORGANIZER;CN="Brandon Sanspree":MAILTO:bsanspree@gmail.com
END:VEVENT
BEGIN:VEVENT
DTSTART;TZID=America/Chicago:20220717T080000
DTEND;TZID=America/Chicago:20220717T130000
DTSTAMP:20260423T084736
CREATED:20220201T015139Z
LAST-MODIFIED:20220215T021725Z
UID:10000331-1658044800-1658062800@greenrivergunclub.com
SUMMARY:ARA Factory Class Match
DESCRIPTION:Matches will be held on the 3rd Sunday of each month from April through October in 2022. The gate will be open by 8 am. We will start the matches at 9 am sharp. We will have the matches even if it rains\, unless there are thunderstorms with lightning.
URL:https://greenrivergunclub.com/event/ara-factory-class-match-11/
ORGANIZER;CN="Brandon Sanspree":MAILTO:bsanspree@gmail.com
END:VEVENT
BEGIN:VEVENT
DTSTART;TZID=America/Chicago:20220625T080000
DTEND;TZID=America/Chicago:20220625T130000
DTSTAMP:20260423T084736
CREATED:20220201T013909Z
LAST-MODIFIED:20220215T021447Z
UID:10000325-1656144000-1656162000@greenrivergunclub.com
SUMMARY:ARA Unlimited Match
DESCRIPTION:Matches will be held on the 4th Saturday of each month from April through October in 2022.  The gate will be open before 8 am. We will start the matches at 9 am sharp. We will have the matches even if it rains\, unless there are thunderstorms with lightning.
URL:https://greenrivergunclub.com/event/ara-unlimited-match-5/
ORGANIZER;CN="Brandon Sanspree":MAILTO:bsanspree@gmail.com
END:VEVENT
BEGIN:VEVENT
DTSTART;TZID=America/Chicago:20220619T080000
DTEND;TZID=America/Chicago:20220619T130000
DTSTAMP:20260423T084736
CREATED:20220201T013435Z
LAST-MODIFIED:20220215T021237Z
UID:10000323-1655625600-1655643600@greenrivergunclub.com
SUMMARY:ARA Factory Class Match
DESCRIPTION:Matches will be held on the 3rd Sunday of each month from April through October in 2022.  The gate will be open by 8 am. We will start the matches at 9 am sharp. We will have the matches even if it rains\, unless there are thunderstorms with lightning.
URL:https://greenrivergunclub.com/event/ara-factory-class-match-10/
ORGANIZER;CN="Brandon Sanspree":MAILTO:bsanspree@gmail.com
END:VEVENT
BEGIN:VEVENT
DTSTART;TZID=America/Chicago:20220528T080000
DTEND;TZID=America/Chicago:20220528T130000
DTSTAMP:20260423T084736
CREATED:20220131T012247Z
LAST-MODIFIED:20220215T020913Z
UID:10000317-1653724800-1653742800@greenrivergunclub.com
SUMMARY:ARA Unlimited Match
DESCRIPTION:Matches will be held on the 4th Saturday of each month from April through October in 2022.  Each match will be 5 cards.  The gate will be open before 8 am. We will start the matches at 9 am sharp. We will have the matches even if it rains\, unless there are thunderstorms with lightning.
URL:https://greenrivergunclub.com/event/ara-unlimited-match-4/
ORGANIZER;CN="Brandon Sanspree":MAILTO:bsanspree@gmail.com
END:VEVENT
BEGIN:VEVENT
DTSTART;TZID=America/Chicago:20220515T090000
DTEND;TZID=America/Chicago:20220515T130000
DTSTAMP:20260423T084736
CREATED:20220418T234127Z
LAST-MODIFIED:20220418T234133Z
UID:10000365-1652605200-1652619600@greenrivergunclub.com
SUMMARY:ARA Factory Class Match
DESCRIPTION:Matches will be held on the 3rd Sunday of each month from April through October in 2022.  The gate will be open by 8 am. We will start the matches at 9 am sharp. We will have the matches even if it rains\, unless there are thunderstorms with lightning.  This match will be 6 cards.  The match fee is $40.00.
URL:https://greenrivergunclub.com/event/ara-factory-class-match-9/
LOCATION:https://greenrivergunclub.com/ara-factory-class-match/
ORGANIZER;CN="Brandon Sanspree":MAILTO:bsanspree@gmail.com
END:VEVENT
BEGIN:VEVENT
DTSTART;TZID=America/Chicago:20220417T080000
DTEND;TZID=America/Chicago:20220417T130000
DTSTAMP:20260423T084736
CREATED:20220130T181301Z
LAST-MODIFIED:20220215T020433Z
UID:10000307-1650182400-1650200400@greenrivergunclub.com
SUMMARY:ARA Factory Class Match
DESCRIPTION:Matches will be held on the 3rd Sunday of each month from April through October in 2022.  The gate will be open by 8 am. We will start the matches at 9 am sharp. We will have the matches even if it rains\, unless there are thunderstorms with lightning.
URL:https://greenrivergunclub.com/event/ara-factory-class-match-8/
ORGANIZER;CN="Brandon Sanspree":MAILTO:bsanspree@gmail.com
END:VEVENT
END:VCALENDAR