BEGIN:VCALENDAR
VERSION:2.0
PRODID:-//Green River Gun Club - ECPv6.15.20//NONSGML v1.0//EN
CALSCALE:GREGORIAN
METHOD:PUBLISH
X-WR-CALNAME:Green River Gun Club
X-ORIGINAL-URL:https://greenrivergunclub.com
X-WR-CALDESC:Events for Green River Gun Club
REFRESH-INTERVAL;VALUE=DURATION:PT1H
X-Robots-Tag:noindex
X-PUBLISHED-TTL:PT1H
BEGIN:VTIMEZONE
TZID:America/Chicago
BEGIN:DAYLIGHT
TZOFFSETFROM:-0600
TZOFFSETTO:-0500
TZNAME:CDT
DTSTART:20210314T080000
END:DAYLIGHT
BEGIN:STANDARD
TZOFFSETFROM:-0500
TZOFFSETTO:-0600
TZNAME:CST
DTSTART:20211107T070000
END:STANDARD
BEGIN:DAYLIGHT
TZOFFSETFROM:-0600
TZOFFSETTO:-0500
TZNAME:CDT
DTSTART:20220313T080000
END:DAYLIGHT
BEGIN:STANDARD
TZOFFSETFROM:-0500
TZOFFSETTO:-0600
TZNAME:CST
DTSTART:20221106T070000
END:STANDARD
BEGIN:DAYLIGHT
TZOFFSETFROM:-0600
TZOFFSETTO:-0500
TZNAME:CDT
DTSTART:20230312T080000
END:DAYLIGHT
BEGIN:STANDARD
TZOFFSETFROM:-0500
TZOFFSETTO:-0600
TZNAME:CST
DTSTART:20231105T070000
END:STANDARD
BEGIN:DAYLIGHT
TZOFFSETFROM:-0600
TZOFFSETTO:-0500
TZNAME:CDT
DTSTART:20240310T080000
END:DAYLIGHT
BEGIN:STANDARD
TZOFFSETFROM:-0500
TZOFFSETTO:-0600
TZNAME:CST
DTSTART:20241103T070000
END:STANDARD
END:VTIMEZONE
BEGIN:VEVENT
DTSTART;TZID=America/Chicago:20230514T130000
DTEND;TZID=America/Chicago:20230514T170000
DTSTAMP:20260423T070536
CREATED:20230131T024217Z
LAST-MODIFIED:20230131T024218Z
UID:10000402-1684069200-1684083600@greenrivergunclub.com
SUMMARY:Steel Plate Match
DESCRIPTION:We typically shoot 3 stages for a match. Each stage is shot five (5) times with the four (4) best scores on the stage being counted. The steel plates will be from 10 to 25 yards away and maybe shot in any order as long as the designated stop plate is hit last. Makeup shots on missed plates are allowed.
URL:https://greenrivergunclub.com/event/steel-plate-match-11/
ORGANIZER;CN="Colin Reece":MAILTO:Colin.a.reece@gmail.com
END:VEVENT
BEGIN:VEVENT
DTSTART;TZID=America/Chicago:20221009T130000
DTEND;TZID=America/Chicago:20221009T170000
DTSTAMP:20260423T070536
CREATED:20220202T033215Z
LAST-MODIFIED:20220202T033221Z
UID:10000353-1665320400-1665334800@greenrivergunclub.com
SUMMARY:Steel Plate Match
DESCRIPTION:We typically shoot 3 stages for a match. Each stage is shot five (5) times with the four (4) best scores on the stage being counted. The steel plates will be from 10 to 25 yards away and maybe shot in any order as long as the designated stop plate is hit last. Makeup shots on missed plates are allowed.
URL:https://greenrivergunclub.com/event/steel-plate-match-10/
ORGANIZER;CN="Colin Reece":MAILTO:Colin.a.reece@gmail.com
END:VEVENT
BEGIN:VEVENT
DTSTART;TZID=America/Chicago:20220911T130000
DTEND;TZID=America/Chicago:20220911T170000
DTSTAMP:20260423T070536
CREATED:20220202T024918Z
LAST-MODIFIED:20220202T024924Z
UID:10000345-1662901200-1662915600@greenrivergunclub.com
SUMMARY:Steel Plate Match
DESCRIPTION:We typically shoot 3 stages for a match. Each stage is shot five (5) times with the four (4) best scores on the stage being counted. The steel plates will be from 10 to 25 yards away and maybe shot in any order as long as the designated stop plate is hit last. Makeup shots on missed plates are allowed.
URL:https://greenrivergunclub.com/event/steel-plate-match-8/
ORGANIZER;CN="Colin Reece":MAILTO:Colin.a.reece@gmail.com
END:VEVENT
BEGIN:VEVENT
DTSTART;TZID=America/Chicago:20220814T130000
DTEND;TZID=America/Chicago:20220814T170000
DTSTAMP:20260423T070536
CREATED:20220201T034021Z
LAST-MODIFIED:20220418T234519Z
UID:10000338-1660482000-1660496400@greenrivergunclub.com
SUMMARY:Steel Plate
DESCRIPTION:We typically shoot 3 stages for a match. Each stage is shot five (5) times with the four (4) best scores on the stage being counted. The steel plates will be from 10 to 25 yards away and maybe shot in any order as long as the designated stop plate is hit last. Makeup shots on missed plates are allowed.
URL:https://greenrivergunclub.com/event/steel-plate/
ORGANIZER;CN="Colin Reece":MAILTO:Colin.a.reece@gmail.com
END:VEVENT
BEGIN:VEVENT
DTSTART;TZID=America/Chicago:20220612T130000
DTEND;TZID=America/Chicago:20220612T170000
DTSTAMP:20260423T070536
CREATED:20220202T025204Z
LAST-MODIFIED:20220418T234404Z
UID:10000346-1655038800-1655053200@greenrivergunclub.com
SUMMARY:Steel Plate Match
DESCRIPTION:We typically shoot 3 stages for a match. Each stage is shot five (5) times with the four (4) best scores on the stage being counted. The steel plates will be from 10 to 25 yards away and maybe shot in any order as long as the designated stop plate is hit last. Makeup shots on missed plates are allowed.
URL:https://greenrivergunclub.com/event/steel-plate-match-9/
ORGANIZER;CN="Colin Reece":MAILTO:Colin.a.reece@gmail.com
END:VEVENT
BEGIN:VEVENT
DTSTART;TZID=America/Chicago:20220508T130000
DTEND;TZID=America/Chicago:20220508T170000
DTSTAMP:20260423T070536
CREATED:20220131T011320Z
LAST-MODIFIED:20220418T234253Z
UID:10000314-1652014800-1652029200@greenrivergunclub.com
SUMMARY:Steel Plate Match
DESCRIPTION:We typically shoot 3 stages for a match. Each stage is shot five (5) times with the four (4) best scores on the stage being counted. The steel plates will be from 10 to 25 yards away and maybe shot in any order as long as the designated stop plate is hit last. Makeup shots on missed plates are allowed.
URL:https://greenrivergunclub.com/event/steel-plate-match-5/
ORGANIZER;CN="Colin Reece":MAILTO:Colin.a.reece@gmail.com
END:VEVENT
BEGIN:VEVENT
DTSTART;TZID=America/Chicago:20220410T130000
DTEND;TZID=America/Chicago:20220410T170000
DTSTAMP:20260423T070536
CREATED:20220130T180535Z
LAST-MODIFIED:20220130T180540Z
UID:10000306-1649595600-1649610000@greenrivergunclub.com
SUMMARY:Steel Plate Match
DESCRIPTION:We typically shoot 3 stages for a match. Each stage is shot five (5) times with the four (4) best scores on the stage being counted. The steel plates will be from 10 to 25 yards away and maybe shot in any order as long as the designated stop plate is hit last. Makeup shots on missed plates are allowed.
URL:https://greenrivergunclub.com/event/steel-plate-match-4/
ORGANIZER;CN="Colin Reece":MAILTO:Colin.a.reece@gmail.com
END:VEVENT
END:VCALENDAR