BEGIN:VCALENDAR
VERSION:2.0
PRODID:-//Green River Gun Club - ECPv6.15.20//NONSGML v1.0//EN
CALSCALE:GREGORIAN
METHOD:PUBLISH
X-ORIGINAL-URL:https://greenrivergunclub.com
X-WR-CALDESC:Events for Green River Gun Club
REFRESH-INTERVAL;VALUE=DURATION:PT1H
X-Robots-Tag:noindex
X-PUBLISHED-TTL:PT1H
BEGIN:VTIMEZONE
TZID:America/Chicago
BEGIN:DAYLIGHT
TZOFFSETFROM:-0600
TZOFFSETTO:-0500
TZNAME:CDT
DTSTART:20210314T080000
END:DAYLIGHT
BEGIN:STANDARD
TZOFFSETFROM:-0500
TZOFFSETTO:-0600
TZNAME:CST
DTSTART:20211107T070000
END:STANDARD
BEGIN:DAYLIGHT
TZOFFSETFROM:-0600
TZOFFSETTO:-0500
TZNAME:CDT
DTSTART:20220313T080000
END:DAYLIGHT
BEGIN:STANDARD
TZOFFSETFROM:-0500
TZOFFSETTO:-0600
TZNAME:CST
DTSTART:20221106T070000
END:STANDARD
BEGIN:DAYLIGHT
TZOFFSETFROM:-0600
TZOFFSETTO:-0500
TZNAME:CDT
DTSTART:20230312T080000
END:DAYLIGHT
BEGIN:STANDARD
TZOFFSETFROM:-0500
TZOFFSETTO:-0600
TZNAME:CST
DTSTART:20231105T070000
END:STANDARD
BEGIN:DAYLIGHT
TZOFFSETFROM:-0600
TZOFFSETTO:-0500
TZNAME:CDT
DTSTART:20240310T080000
END:DAYLIGHT
BEGIN:STANDARD
TZOFFSETFROM:-0500
TZOFFSETTO:-0600
TZNAME:CST
DTSTART:20241103T070000
END:STANDARD
END:VTIMEZONE
BEGIN:VEVENT
DTSTART;TZID=America/Chicago:20230610T080000
DTEND;TZID=America/Chicago:20230610T130000
DTSTAMP:20260423T052315
CREATED:20230124T025943Z
LAST-MODIFIED:20230608T223534Z
UID:10000392-1686384000-1686402000@greenrivergunclub.com
SUMMARY:Cowboy Action Shooting Match - Cancelled
DESCRIPTION:Green River Gun Slingers Cowboy Action Shooting Match
URL:https://greenrivergunclub.com/event/cowboy-action-shooting-match-16/
ORGANIZER;CN="Greg Beaty<br>":MAILTO:Bushrodsass@gmail.com
END:VEVENT
BEGIN:VEVENT
DTSTART;TZID=America/Chicago:20230513T080000
DTEND;TZID=America/Chicago:20230513T130000
DTSTAMP:20260423T052315
CREATED:20221005T023206Z
LAST-MODIFIED:20230124T022749Z
UID:10000384-1683964800-1683982800@greenrivergunclub.com
SUMMARY:Cowboy Action Shooting Match
DESCRIPTION:Green River Gun Slingers Cowboy Action Shooting Match
URL:https://greenrivergunclub.com/event/cowboy-action-shooting-match-14/
ORGANIZER;CN="Greg Beaty<br>":MAILTO:Bushrodsass@gmail.com
END:VEVENT
BEGIN:VEVENT
DTSTART;TZID=America/Chicago:20230408T080000
DTEND;TZID=America/Chicago:20230408T140000
DTSTAMP:20260423T052315
CREATED:20230131T022533Z
LAST-MODIFIED:20230131T022534Z
UID:10000398-1680940800-1680962400@greenrivergunclub.com
SUMMARY:Cowboy Action Shooting Match
DESCRIPTION:Held at the Cowboy Range adjacent to the Main Range. A typical match is five stages with a round count of 50 pistol\, 50 rifle and 20-25 shotgun. For more information contact Greg Beaty\, 270-498-0134\, Bushrodsass@gmail.com
URL:https://greenrivergunclub.com/event/cowboy-action-shooting-match-17/
ORGANIZER;CN="Greg Beaty<br>":MAILTO:Bushrodsass@gmail.com
END:VEVENT
BEGIN:VEVENT
DTSTART;TZID=America/Chicago:20230311T080000
DTEND;TZID=America/Chicago:20230311T130000
DTSTAMP:20260423T052315
CREATED:20221023T022738Z
LAST-MODIFIED:20221023T022740Z
UID:10000387-1678521600-1678539600@greenrivergunclub.com
SUMMARY:Cowboy Action Shooting Match
DESCRIPTION:Green River Gunslingers Cowboy Action Shooting Match
URL:https://greenrivergunclub.com/event/cowboy-action-shooting-match-15/
ORGANIZER;CN="Greg Beaty<br>":MAILTO:Bushrodsass@gmail.com
END:VEVENT
BEGIN:VEVENT
DTSTART;TZID=America/Chicago:20230211T080000
DTEND;TZID=America/Chicago:20230211T130000
DTSTAMP:20260423T052315
CREATED:20221005T023039Z
LAST-MODIFIED:20221005T023040Z
UID:10000383-1676102400-1676120400@greenrivergunclub.com
SUMMARY:Cowboy Action Shooting Match
DESCRIPTION:Green River Gunslinger’s February Match
URL:https://greenrivergunclub.com/event/cowboy-action-shooting-match-13/
ORGANIZER;CN="Greg Beaty<br>":MAILTO:Bushrodsass@gmail.com
END:VEVENT
BEGIN:VEVENT
DTSTART;TZID=America/Chicago:20230128T080000
DTEND;TZID=America/Chicago:20230128T170000
DTSTAMP:20260423T052315
CREATED:20220820T161058Z
LAST-MODIFIED:20230124T022659Z
UID:10000379-1674892800-1674925200@greenrivergunclub.com
SUMMARY:Cowboy Action Shooting Match
DESCRIPTION:Held at the Cowboy Range adjacent to the Main Range. A typical match is five stages with a round count of 50 pistol\, 50 rifle and 20-25 shotgun. For more information contact Greg Beaty\, 270-498-0134\, Bushrodsass@gmail.com
URL:https://greenrivergunclub.com/event/cowboy-action-shooting-match-12/
ORGANIZER;CN="Greg Beaty<br>":MAILTO:Bushrodsass@gmail.com
END:VEVENT
BEGIN:VEVENT
DTSTART;TZID=America/Chicago:20230114T080000
DTEND;TZID=America/Chicago:20230114T170000
DTSTAMP:20260423T052315
CREATED:20220820T160938Z
LAST-MODIFIED:20220820T160939Z
UID:10000378-1673683200-1673715600@greenrivergunclub.com
SUMMARY:Cowboy Action Shooting Match
DESCRIPTION:Held at the Cowboy Range adjacent to the Main Range. A typical match is five stages with a round count of 50 pistol\, 50 rifle and 20-25 shotgun. For more information contact Greg Beaty\, 270-498-0134\, Bushrodsass@gmail.com
URL:https://greenrivergunclub.com/event/cowboy-action-shooting-match-11/
ORGANIZER;CN="Greg Beaty<br>":MAILTO:Bushrodsass@gmail.com
END:VEVENT
BEGIN:VEVENT
DTSTART;TZID=America/Chicago:20221210T080000
DTEND;TZID=America/Chicago:20221210T130000
DTSTAMP:20260423T052315
CREATED:20220208T032659Z
LAST-MODIFIED:20220208T032704Z
UID:10000362-1670659200-1670677200@greenrivergunclub.com
SUMMARY:Cowboy Match
DESCRIPTION:Held at the Cowboy Range adjacent to the Main Range. A typical match is five stages with a round count of 50 pistol\, 50 rifle and 20-25 shotgun. For more information contact Greg Beaty\, 270-498-0134\, Bushrodsass@gmail.com
URL:https://greenrivergunclub.com/event/cowboy-match-29/
ORGANIZER;CN="Greg Beaty<br>":MAILTO:Bushrodsass@gmail.com
END:VEVENT
BEGIN:VEVENT
DTSTART;TZID=America/Chicago:20221126T080000
DTEND;TZID=America/Chicago:20221126T170000
DTSTAMP:20260423T052315
CREATED:20220820T160806Z
LAST-MODIFIED:20220820T160807Z
UID:10000377-1669449600-1669482000@greenrivergunclub.com
SUMMARY:Cowboy Action Shooting Match
DESCRIPTION:Held at the Cowboy Range adjacent to the Main Range. A typical match is five stages with a round count of 50 pistol\, 50 rifle and 20-25 shotgun. For more information contact Greg Beaty\, 270-498-0134\, Bushrodsass@gmail.com
URL:https://greenrivergunclub.com/event/cowboy-action-shooting-match-10/
ORGANIZER;CN="Greg Beaty<br>":MAILTO:Bushrodsass@gmail.com
END:VEVENT
BEGIN:VEVENT
DTSTART;TZID=America/Chicago:20221112T080000
DTEND;TZID=America/Chicago:20221112T130000
DTSTAMP:20260423T052315
CREATED:20220208T032019Z
LAST-MODIFIED:20220208T032024Z
UID:10000359-1668240000-1668258000@greenrivergunclub.com
SUMMARY:Cowboy Match
DESCRIPTION:Held at the Cowboy Range adjacent to the Main Range. A typical match is five stages with a round count of 50 pistol\, 50 rifle and 20-25 shotgun. For more information contact Greg Beaty\, 270-498-0134\, Bushrodsass@gmail.com
URL:https://greenrivergunclub.com/event/cowboy-match-28/
ORGANIZER;CN="Greg Beaty<br>":MAILTO:Bushrodsass@gmail.com
END:VEVENT
BEGIN:VEVENT
DTSTART;TZID=America/Chicago:20221022T080000
DTEND;TZID=America/Chicago:20221022T130000
DTSTAMP:20260423T052315
CREATED:20220202T033930Z
LAST-MODIFIED:20220820T160636Z
UID:10000356-1666425600-1666443600@greenrivergunclub.com
SUMMARY:Cowboy Match
DESCRIPTION:Held at the Cowboy Range adjacent to the Main Range. A typical match is five stages with a round count of 50 pistol\, 50 rifle and 20-25 shotgun. For more information contact Greg Beaty\, 270-498-0134\, Bushrodsass@gmail.com
URL:https://greenrivergunclub.com/event/cowboy-match-27/
ORGANIZER;CN="Greg Beaty<br>":MAILTO:Bushrodsass@gmail.com
END:VEVENT
BEGIN:VEVENT
DTSTART;TZID=America/Chicago:20221008T080000
DTEND;TZID=America/Chicago:20221008T130000
DTSTAMP:20260423T052315
CREATED:20220202T032858Z
LAST-MODIFIED:20220202T032904Z
UID:10000352-1665216000-1665234000@greenrivergunclub.com
SUMMARY:Cowboy Match
DESCRIPTION:Held at the Cowboy Range adjacent to the Main Range. A typical match is five stages with a round count of 50 pistol\, 50 rifle and 20-25 shotgun. For more information contact Greg Beaty\, 270-498-0134\, Bushrodsass@gmail.com
URL:https://greenrivergunclub.com/event/cowboy-match-26/
ORGANIZER;CN="Greg Beaty<br>":MAILTO:Bushrodsass@gmail.com
END:VEVENT
BEGIN:VEVENT
DTSTART;TZID=America/Chicago:20220924T080000
DTEND;TZID=America/Chicago:20220924T170000
DTSTAMP:20260423T052315
CREATED:20220820T160540Z
LAST-MODIFIED:20220820T160541Z
UID:10000376-1664006400-1664038800@greenrivergunclub.com
SUMMARY:Cowboy Action Shooting Match
DESCRIPTION:Held at the Cowboy Range adjacent to the Main Range. A typical match is five stages with a round count of 50 pistol\, 50 rifle and 20-25 shotgun. For more information contact Greg Beaty\, 270-498-0134\, Bushrodsass@gmail.com
URL:https://greenrivergunclub.com/event/cowboy-action-shooting-match-9/
ORGANIZER;CN="Greg Beaty<br>":MAILTO:Bushrodsass@gmail.com
END:VEVENT
BEGIN:VEVENT
DTSTART;TZID=America/Chicago:20220910T080000
DTEND;TZID=America/Chicago:20220910T130000
DTSTAMP:20260423T052315
CREATED:20220202T024641Z
LAST-MODIFIED:20220202T024647Z
UID:10000344-1662796800-1662814800@greenrivergunclub.com
SUMMARY:Cowboy Match
DESCRIPTION:Held at the Cowboy Range adjacent to the Main Range. A typical match is five stages with a round count of 50 pistol\, 50 rifle and 20-25 shotgun. For more information contact Greg Beaty\, 270-498-0134\, Bushrodsass@gmail.com
URL:https://greenrivergunclub.com/event/cowboy-match-25/
ORGANIZER;CN="Greg Beaty<br>":MAILTO:Bushrodsass@gmail.com
END:VEVENT
BEGIN:VEVENT
DTSTART;TZID=America/Chicago:20220827T080000
DTEND;TZID=America/Chicago:20220827T130000
DTSTAMP:20260423T052315
CREATED:20220612T204851Z
LAST-MODIFIED:20220612T204851Z
UID:10000367-1661587200-1661605200@greenrivergunclub.com
SUMMARY:Cowboy Action Shooting Match
DESCRIPTION:Held at the Cowboy Range adjacent to the Main Range. A typical match is five stages with a round count of 50 pistol\, 50 rifle and 20-25 shotgun. For more information contact Greg Beaty\, 270-498-0134\, Bushrodsass@gmail.com
URL:https://greenrivergunclub.com/event/cowboy-action-shooting-match-8/
ORGANIZER;CN="Greg Beaty<br>":MAILTO:Bushrodsass@gmail.com
END:VEVENT
BEGIN:VEVENT
DTSTART;TZID=America/Chicago:20220813T080000
DTEND;TZID=America/Chicago:20220813T130000
DTSTAMP:20260423T052315
CREATED:20220201T033902Z
LAST-MODIFIED:20220201T033907Z
UID:10000337-1660377600-1660395600@greenrivergunclub.com
SUMMARY:Cowboy Match
DESCRIPTION:Held at the Cowboy Range adjacent to the Main Range. A typical match is five stages with a round count of 50 pistol\, 50 rifle and 20-25 shotgun. For more information contact Greg Beaty\, 270-498-0134\, Bushrodsass@gmail.com
URL:https://greenrivergunclub.com/event/cowboy-match-24/
ORGANIZER;CN="Greg Beaty<br>":MAILTO:Bushrodsass@gmail.com
END:VEVENT
BEGIN:VEVENT
DTSTART;TZID=America/Chicago:20220709T080000
DTEND;TZID=America/Chicago:20220709T130000
DTSTAMP:20260423T052315
CREATED:20220201T014528Z
LAST-MODIFIED:20220201T014533Z
UID:10000328-1657353600-1657371600@greenrivergunclub.com
SUMMARY:Cowboy Match
DESCRIPTION:Held at the Cowboy Range adjacent to the Main Range. A typical match is five stages with a round count of 50 pistol\, 50 rifle and 20-25 shotgun. For more information contact Greg Beaty\, 270-498-0134\, Bushrodsass@gmail.com
URL:https://greenrivergunclub.com/event/cowboy-match-23/
ORGANIZER;CN="Greg Beaty<br>":MAILTO:Bushrodsass@gmail.com
END:VEVENT
BEGIN:VEVENT
DTSTART;TZID=America/Chicago:20220625T080000
DTEND;TZID=America/Chicago:20220625T130000
DTSTAMP:20260423T052315
CREATED:20220612T204720Z
LAST-MODIFIED:20220612T204720Z
UID:10000366-1656144000-1656162000@greenrivergunclub.com
SUMMARY:Cowboy Action Shooting Match
DESCRIPTION:Held at the Cowboy Range adjacent to the Main Range. A typical match is five stages with a round count of 50 pistol\, 50 rifle and 20-25 shotgun. For more information contact Greg Beaty\, 270-498-0134\, Bushrodsass@gmail.com
URL:https://greenrivergunclub.com/event/cowboy-action-shooting-match-7/
ORGANIZER;CN="Greg Beaty<br>":MAILTO:Bushrodsass@gmail.com
END:VEVENT
BEGIN:VEVENT
DTSTART;TZID=America/Chicago:20220611T080000
DTEND;TZID=America/Chicago:20220611T130000
DTSTAMP:20260423T052315
CREATED:20220201T012729Z
LAST-MODIFIED:20220201T012735Z
UID:10000321-1654934400-1654952400@greenrivergunclub.com
SUMMARY:Cowboy Match
DESCRIPTION:Held at the Cowboy Range adjacent to the Main Range. A typical match is five stages with a round count of 50 pistol\, 50 rifle and 20-25 shotgun. For more information contact Greg Beaty\, 270-498-0134\, Bushrodsass@gmail.com
URL:https://greenrivergunclub.com/event/cowboy-match-22/
ORGANIZER;CN="Greg Beaty<br>":MAILTO:Bushrodsass@gmail.com
END:VEVENT
BEGIN:VEVENT
DTSTART;TZID=America/Chicago:20220611T080000
DTEND;TZID=America/Chicago:20220611T130000
DTSTAMP:20260423T052315
CREATED:20220131T012740Z
LAST-MODIFIED:20220131T012747Z
UID:10000319-1654934400-1654952400@greenrivergunclub.com
SUMMARY:Cowboy Match
DESCRIPTION:Held at the Cowboy Range adjacent to the Main Range. A typical match is five stages with a round count of 50 pistol\, 50 rifle and 20-25 shotgun. For more information contact Greg Beaty\, 270-498-0134\, Bushrodsass@gmail.com
URL:https://greenrivergunclub.com/event/cowboy-match-21/
ORGANIZER;CN="Greg Beaty<br>":MAILTO:Bushrodsass@gmail.com
END:VEVENT
BEGIN:VEVENT
DTSTART;TZID=America/Chicago:20220514T080000
DTEND;TZID=America/Chicago:20220514T130000
DTSTAMP:20260423T052315
CREATED:20220131T011505Z
LAST-MODIFIED:20220131T011510Z
UID:10000315-1652515200-1652533200@greenrivergunclub.com
SUMMARY:Cowboy Match
DESCRIPTION:Held at the Cowboy Range adjacent to the Main Range. A typical match is five stages with a round count of 50 pistol\, 50 rifle and 20-25 shotgun. For more information contact Greg Beaty\, 270-498-0134\,
URL:https://greenrivergunclub.com/event/cowboy-match-8/
ORGANIZER;CN="Greg Beaty<br>":MAILTO:Bushrodsass@gmail.com
END:VEVENT
BEGIN:VEVENT
DTSTART;TZID=America/Chicago:20220430T080000
DTEND;TZID=America/Chicago:20220430T130000
DTSTAMP:20260423T052315
CREATED:20220130T173927Z
LAST-MODIFIED:20220130T173932Z
UID:10000303-1651305600-1651323600@greenrivergunclub.com
SUMMARY:Cowboy Action Shooting Match
DESCRIPTION:Held at the Cowboy Range adjacent to the Main Range. A typical match is five stages with a round count of 50 pistol\, 50 rifle and 20-25 shotgun. For more information contact Greg Beaty\, 270-498-0134\, Bushrodsass@gmail.com
URL:https://greenrivergunclub.com/event/cowboy-action-shooting-match-6/
ORGANIZER;CN="Greg Beaty<br>":MAILTO:Bushrodsass@gmail.com
END:VEVENT
BEGIN:VEVENT
DTSTART;TZID=America/Chicago:20220409T080000
DTEND;TZID=America/Chicago:20220409T130000
DTSTAMP:20260423T052315
CREATED:20220130T173732Z
LAST-MODIFIED:20220326T183127Z
UID:10000302-1649491200-1649509200@greenrivergunclub.com
SUMMARY:Cowboy Action Shooting Match
DESCRIPTION:Held at the Cowboy Range adjacent to the Main Range. A typical match is five stages with a round count of 50 pistol\, 50 rifle and 20-25 shotgun. For more information contact Greg Beaty\, 270-498-0134\,
URL:https://greenrivergunclub.com/event/cowboy-action-shooting-match-5/
ORGANIZER;CN="Greg Beaty<br>":MAILTO:Bushrodsass@gmail.com
END:VEVENT
BEGIN:VEVENT
DTSTART;TZID=America/Chicago:20220312T080000
DTEND;TZID=America/Chicago:20220312T130000
DTSTAMP:20260423T052315
CREATED:20220130T171408Z
LAST-MODIFIED:20220130T171413Z
UID:10000300-1647072000-1647090000@greenrivergunclub.com
SUMMARY:Cowboy Action Shooting Match
DESCRIPTION:Held at the Cowboy Range adjacent to the Main Range. A typical match is five stages with a round count of 50 pistol\, 50 rifle and 20-25 shotgun. For more information contact Greg Beaty\, 270-498-0134\, Bushrodsass@gmail.com
URL:https://greenrivergunclub.com/event/cowboy-action-shooting-match-4/
ORGANIZER;CN="Greg Beaty<br>":MAILTO:Bushrodsass@gmail.com
END:VEVENT
BEGIN:VEVENT
DTSTART;TZID=America/Chicago:20220212T080000
DTEND;TZID=America/Chicago:20220212T130000
DTSTAMP:20260423T052315
CREATED:20220130T171132Z
LAST-MODIFIED:20220130T171137Z
UID:10000299-1644652800-1644670800@greenrivergunclub.com
SUMMARY:Cowboy Action Shooting Match
DESCRIPTION:Held at the Cowboy Range adjacent to the Main Range. A typical match is five stages with a round count of 50 pistol\, 50 rifle and 20-25 shotgun. For more information contact Greg Beaty\, 270-498-0134\, Bushrodsass@gmail.com
URL:https://greenrivergunclub.com/event/cowboy-action-shooting-match-3/
ORGANIZER;CN="Greg Beaty<br>":MAILTO:Bushrodsass@gmail.com
END:VEVENT
BEGIN:VEVENT
DTSTART;TZID=America/Chicago:20220129T080000
DTEND;TZID=America/Chicago:20220129T130000
DTSTAMP:20260423T052315
CREATED:20220130T170744Z
LAST-MODIFIED:20220130T170753Z
UID:10000298-1643443200-1643461200@greenrivergunclub.com
SUMMARY:Cowboy Action Shooting Match
DESCRIPTION:Held at the Cowboy Range adjacent to the Main Range. A typical match is five stages with a round count of 50 pistol\, 50 rifle and 20-25 shotgun. Fore more information contact Greg Beaty\, 270-498-0134\, Bushrodsass@gmail.com
URL:https://greenrivergunclub.com/event/cowboy-action-shooting-match-2/
ORGANIZER;CN="Greg Beaty<br>":MAILTO:Bushrodsass@gmail.com
END:VEVENT
BEGIN:VEVENT
DTSTART;TZID=America/Chicago:20220108T080000
DTEND;TZID=America/Chicago:20220108T130000
DTSTAMP:20260423T052315
CREATED:20220130T170523Z
LAST-MODIFIED:20220130T170529Z
UID:10000297-1641628800-1641646800@greenrivergunclub.com
SUMMARY:Cowboy Action Shooting Match
DESCRIPTION:Held at the Cowboy Range adjacent to the Main Range.  A typical match is five stages with a round count of 50 pistol\, 50 rifle and 20-25 shotgun.  Fore more information contact Greg Beaty\, 270-498-0134\, Bushrodsass@gmail.com \n\n\n\n\n\n\n\n\n\n\n\n\n\nGreen River Gunslingers | Facebook
URL:https://greenrivergunclub.com/event/cowboy-action-shooting-match/
ORGANIZER;CN="Greg Beaty<br>":MAILTO:Bushrodsass@gmail.com
END:VEVENT
END:VCALENDAR