BEGIN:VCALENDAR
VERSION:2.0
PRODID:-//Green River Gun Club - ECPv6.15.20//NONSGML v1.0//EN
CALSCALE:GREGORIAN
METHOD:PUBLISH
X-ORIGINAL-URL:https://greenrivergunclub.com
X-WR-CALDESC:Events for Green River Gun Club
REFRESH-INTERVAL;VALUE=DURATION:PT1H
X-Robots-Tag:noindex
X-PUBLISHED-TTL:PT1H
BEGIN:VTIMEZONE
TZID:America/Chicago
BEGIN:DAYLIGHT
TZOFFSETFROM:-0600
TZOFFSETTO:-0500
TZNAME:CDT
DTSTART:20210314T080000
END:DAYLIGHT
BEGIN:STANDARD
TZOFFSETFROM:-0500
TZOFFSETTO:-0600
TZNAME:CST
DTSTART:20211107T070000
END:STANDARD
BEGIN:DAYLIGHT
TZOFFSETFROM:-0600
TZOFFSETTO:-0500
TZNAME:CDT
DTSTART:20220313T080000
END:DAYLIGHT
BEGIN:STANDARD
TZOFFSETFROM:-0500
TZOFFSETTO:-0600
TZNAME:CST
DTSTART:20221106T070000
END:STANDARD
BEGIN:DAYLIGHT
TZOFFSETFROM:-0600
TZOFFSETTO:-0500
TZNAME:CDT
DTSTART:20230312T080000
END:DAYLIGHT
BEGIN:STANDARD
TZOFFSETFROM:-0500
TZOFFSETTO:-0600
TZNAME:CST
DTSTART:20231105T070000
END:STANDARD
END:VTIMEZONE
BEGIN:VEVENT
DTSTART;TZID=America/Chicago:20220212T080000
DTEND;TZID=America/Chicago:20220212T130000
DTSTAMP:20260423T084621
CREATED:20220130T171132Z
LAST-MODIFIED:20220130T171137Z
UID:10000299-1644652800-1644670800@greenrivergunclub.com
SUMMARY:Cowboy Action Shooting Match
DESCRIPTION:Held at the Cowboy Range adjacent to the Main Range. A typical match is five stages with a round count of 50 pistol\, 50 rifle and 20-25 shotgun. For more information contact Greg Beaty\, 270-498-0134\, Bushrodsass@gmail.com
URL:https://greenrivergunclub.com/event/cowboy-action-shooting-match-3/
ORGANIZER;CN="Greg Beaty<br>":MAILTO:Bushrodsass@gmail.com
END:VEVENT
BEGIN:VEVENT
DTSTART;TZID=America/Chicago:20220129T080000
DTEND;TZID=America/Chicago:20220129T130000
DTSTAMP:20260423T084621
CREATED:20220130T170744Z
LAST-MODIFIED:20220130T170753Z
UID:10000298-1643443200-1643461200@greenrivergunclub.com
SUMMARY:Cowboy Action Shooting Match
DESCRIPTION:Held at the Cowboy Range adjacent to the Main Range. A typical match is five stages with a round count of 50 pistol\, 50 rifle and 20-25 shotgun. Fore more information contact Greg Beaty\, 270-498-0134\, Bushrodsass@gmail.com
URL:https://greenrivergunclub.com/event/cowboy-action-shooting-match-2/
ORGANIZER;CN="Greg Beaty<br>":MAILTO:Bushrodsass@gmail.com
END:VEVENT
BEGIN:VEVENT
DTSTART;TZID=America/Chicago:20220108T080000
DTEND;TZID=America/Chicago:20220108T130000
DTSTAMP:20260423T084621
CREATED:20220130T170523Z
LAST-MODIFIED:20220130T170529Z
UID:10000297-1641628800-1641646800@greenrivergunclub.com
SUMMARY:Cowboy Action Shooting Match
DESCRIPTION:Held at the Cowboy Range adjacent to the Main Range.  A typical match is five stages with a round count of 50 pistol\, 50 rifle and 20-25 shotgun.  Fore more information contact Greg Beaty\, 270-498-0134\, Bushrodsass@gmail.com \n\n\n\n\n\n\n\n\n\n\n\n\n\nGreen River Gunslingers | Facebook
URL:https://greenrivergunclub.com/event/cowboy-action-shooting-match/
ORGANIZER;CN="Greg Beaty<br>":MAILTO:Bushrodsass@gmail.com
END:VEVENT
END:VCALENDAR