BEGIN:VCALENDAR
VERSION:2.0
PRODID:-//Green River Gun Club - ECPv6.15.20//NONSGML v1.0//EN
CALSCALE:GREGORIAN
METHOD:PUBLISH
X-WR-CALNAME:Green River Gun Club
X-ORIGINAL-URL:https://greenrivergunclub.com
X-WR-CALDESC:Events for Green River Gun Club
REFRESH-INTERVAL;VALUE=DURATION:PT1H
X-Robots-Tag:noindex
X-PUBLISHED-TTL:PT1H
BEGIN:VTIMEZONE
TZID:America/Chicago
BEGIN:DAYLIGHT
TZOFFSETFROM:-0600
TZOFFSETTO:-0500
TZNAME:CDT
DTSTART:20210314T080000
END:DAYLIGHT
BEGIN:STANDARD
TZOFFSETFROM:-0500
TZOFFSETTO:-0600
TZNAME:CST
DTSTART:20211107T070000
END:STANDARD
BEGIN:DAYLIGHT
TZOFFSETFROM:-0600
TZOFFSETTO:-0500
TZNAME:CDT
DTSTART:20220313T080000
END:DAYLIGHT
BEGIN:STANDARD
TZOFFSETFROM:-0500
TZOFFSETTO:-0600
TZNAME:CST
DTSTART:20221106T070000
END:STANDARD
BEGIN:DAYLIGHT
TZOFFSETFROM:-0600
TZOFFSETTO:-0500
TZNAME:CDT
DTSTART:20230312T080000
END:DAYLIGHT
BEGIN:STANDARD
TZOFFSETFROM:-0500
TZOFFSETTO:-0600
TZNAME:CST
DTSTART:20231105T070000
END:STANDARD
BEGIN:DAYLIGHT
TZOFFSETFROM:-0600
TZOFFSETTO:-0500
TZNAME:CDT
DTSTART:20240310T080000
END:DAYLIGHT
BEGIN:STANDARD
TZOFFSETFROM:-0500
TZOFFSETTO:-0600
TZNAME:CST
DTSTART:20241103T070000
END:STANDARD
BEGIN:DAYLIGHT
TZOFFSETFROM:-0600
TZOFFSETTO:-0500
TZNAME:CDT
DTSTART:20250309T080000
END:DAYLIGHT
BEGIN:STANDARD
TZOFFSETFROM:-0500
TZOFFSETTO:-0600
TZNAME:CST
DTSTART:20251102T070000
END:STANDARD
END:VTIMEZONE
BEGIN:VEVENT
DTSTART;TZID=America/Chicago:20240601T070000
DTEND;TZID=America/Chicago:20240601T170000
DTSTAMP:20260423T052146
CREATED:20240525T151312Z
LAST-MODIFIED:20240525T151331Z
UID:10000473-1717225200-1717261200@greenrivergunclub.com
SUMMARY:Range Closed - 4H Shooting Sports Event
DESCRIPTION:Annual Warren County 4H Shooting Sports Event
URL:https://greenrivergunclub.com/event/range-closed-4h-shooting-sports-event/
ORGANIZER;CN="Stephen Summers":MAILTO:Mammothoutdoorsjss@gmail.com
END:VEVENT
BEGIN:VEVENT
DTSTART;TZID=America/Chicago:20240406T070000
DTEND;TZID=America/Chicago:20240406T120000
DTSTAMP:20260423T052146
CREATED:20240218T171453Z
LAST-MODIFIED:20240218T171456Z
UID:10000462-1712386800-1712404800@greenrivergunclub.com
SUMMARY:Private Event - Rimfire Range
DESCRIPTION:The Rimfire Range is closed until noon for a private event.
URL:https://greenrivergunclub.com/event/private-event-rimfire-range/
ORGANIZER;CN="Stephen Summers":MAILTO:Mammothoutdoorsjss@gmail.com
END:VEVENT
BEGIN:VEVENT
DTSTART;TZID=America/Chicago:20240404T070000
DTEND;TZID=America/Chicago:20240404T160000
DTSTAMP:20260423T052146
CREATED:20240305T015748Z
LAST-MODIFIED:20240331T220808Z
UID:10000470-1712214000-1712246400@greenrivergunclub.com
SUMMARY:4H Event
DESCRIPTION:The Archery Bag Range\, the Rimfire Range\, Pistol Bays and Shotgun Range will be closed until 4PM for use by the Warren County 4H.
URL:https://greenrivergunclub.com/event/4h-event/
ORGANIZER;CN="Stephen Summers":MAILTO:Mammothoutdoorsjss@gmail.com
END:VEVENT
BEGIN:VEVENT
DTSTART;TZID=America/Chicago:20240128T000000
DTEND;TZID=America/Chicago:20240128T110000
DTSTAMP:20260423T052146
CREATED:20240112T034117Z
LAST-MODIFIED:20240112T034118Z
UID:10000451-1706400000-1706439600@greenrivergunclub.com
SUMMARY:Private Event - Shotgun Range
DESCRIPTION:The Shotgun range will be closed Sunday morning.
URL:https://greenrivergunclub.com/event/private-event-shotgun-range-3/
ORGANIZER;CN="Stephen Summers":MAILTO:Mammothoutdoorsjss@gmail.com
END:VEVENT
BEGIN:VEVENT
DTSTART;TZID=America/Chicago:20240127T070000
DTEND;TZID=America/Chicago:20240127T235900
DTSTAMP:20260423T052146
CREATED:20240112T033959Z
LAST-MODIFIED:20240112T034001Z
UID:10000450-1706338800-1706399940@greenrivergunclub.com
SUMMARY:Private Event - Shotgun Range
DESCRIPTION:The Shotgun range will be closed on Saturday\, January 27th
URL:https://greenrivergunclub.com/event/private-event-shotgun-range-2/
ORGANIZER;CN="Stephen Summers":MAILTO:Mammothoutdoorsjss@gmail.com
END:VEVENT
BEGIN:VEVENT
DTSTART;TZID=America/Chicago:20231007T070000
DTEND;TZID=America/Chicago:20231007T170000
DTSTAMP:20260423T052146
CREATED:20230222T041857Z
LAST-MODIFIED:20230222T041859Z
UID:10000440-1696662000-1696698000@greenrivergunclub.com
SUMMARY:KLEMF WKU PD Fund Raiser
DESCRIPTION:The Rim Fire and Pistol Bays will be closed all day.
URL:https://greenrivergunclub.com/event/klemf-wku-pd-fund-raiser/
ORGANIZER;CN="Stephen Summers":MAILTO:Mammothoutdoorsjss@gmail.com
END:VEVENT
BEGIN:VEVENT
DTSTART;TZID=America/Chicago:20230923T080000
DTEND;TZID=America/Chicago:20230923T130000
DTSTAMP:20260423T052146
CREATED:20230817T025016Z
LAST-MODIFIED:20230817T025039Z
UID:10000445-1695456000-1695474000@greenrivergunclub.com
SUMMARY:KDFWR Hunter Education Range Day
DESCRIPTION:The Rimfire Range will be closed during the KDFWR Hunter Education Range Day.   Class times are 09:00 and 10:30.
URL:https://greenrivergunclub.com/event/kdfwr-hunter-education-range-day/
ATTACH;FMTTYPE=image/jpeg:https://greenrivergunclub.com/wp-content/uploads/2021/09/logo__1_.jpg
ORGANIZER;CN="Stephen Summers":MAILTO:Mammothoutdoorsjss@gmail.com
END:VEVENT
BEGIN:VEVENT
DTSTART;TZID=America/Chicago:20230918T170000
DTEND;TZID=America/Chicago:20230918T200000
DTSTAMP:20260423T052146
CREATED:20230201T031246Z
LAST-MODIFIED:20230201T031247Z
UID:10000427-1695056400-1695067200@greenrivergunclub.com
SUMMARY:Trap
DESCRIPTION:GRGC is currently a one trap club\, sanctioned by the ATA to throw registered targets. We feature 36” concrete walkways\, excellent lighting for night shoots and Canterbury Voice Releases. We throw White Flyer Pitch targets to ATA standards from a Pat Trap. Currently the Trap Range is open to member and public use Monday evenings starting at 5:00 PM\, April through the end of November. We throw practice targets for all 3 disciplines\, singles/caps/doubles on a typical Monday evening.
URL:https://greenrivergunclub.com/event/trap-60/
ORGANIZER;CN="Stephen Summers":MAILTO:Mammothoutdoorsjss@gmail.com
END:VEVENT
BEGIN:VEVENT
DTSTART;TZID=America/Chicago:20230904T170000
DTEND;TZID=America/Chicago:20230904T200000
DTSTAMP:20260423T052146
CREATED:20230201T030302Z
LAST-MODIFIED:20230201T030304Z
UID:10000422-1693846800-1693857600@greenrivergunclub.com
SUMMARY:Trap
DESCRIPTION:GRGC is currently a one trap club\, sanctioned by the ATA to throw registered targets. We feature 36” concrete walkways\, excellent lighting for night shoots and Canterbury Voice Releases. We throw White Flyer Pitch targets to ATA standards from a Pat Trap. Currently the Trap Range is open to member and public use Monday evenings starting at 5:00 PM\, April through the end of November. We throw practice targets for all 3 disciplines\, singles/caps/doubles on a typical Monday evening.
URL:https://greenrivergunclub.com/event/trap-59/
ORGANIZER;CN="Stephen Summers":MAILTO:Mammothoutdoorsjss@gmail.com
END:VEVENT
BEGIN:VEVENT
DTSTART;TZID=America/Chicago:20230821T170000
DTEND;TZID=America/Chicago:20230821T200000
DTSTAMP:20260423T052146
CREATED:20230201T020312Z
LAST-MODIFIED:20230201T020313Z
UID:10000421-1692637200-1692648000@greenrivergunclub.com
SUMMARY:Trap
DESCRIPTION:GRGC is currently a one trap club\, sanctioned by the ATA to throw registered targets. We feature 36” concrete walkways\, excellent lighting for night shoots and Canterbury Voice Releases. We throw White Flyer Pitch targets to ATA standards from a Pat Trap. Currently the Trap Range is open to member and public use Monday evenings starting at 5:00 PM\, April through the end of November. We throw practice targets for all 3 disciplines\, singles/caps/doubles on a typical Monday evening.
URL:https://greenrivergunclub.com/event/trap-58/
ORGANIZER;CN="Stephen Summers":MAILTO:Mammothoutdoorsjss@gmail.com
END:VEVENT
BEGIN:VEVENT
DTSTART;TZID=America/Chicago:20230807T170000
DTEND;TZID=America/Chicago:20230807T200000
DTSTAMP:20260423T052146
CREATED:20230201T015337Z
LAST-MODIFIED:20230201T015338Z
UID:10000416-1691427600-1691438400@greenrivergunclub.com
SUMMARY:Trap
DESCRIPTION:GRGC is currently a one trap club\, sanctioned by the ATA to throw registered targets. We feature 36” concrete walkways\, excellent lighting for night shoots and Canterbury Voice Releases. We throw White Flyer Pitch targets to ATA standards from a Pat Trap. Currently the Trap Range is open to member and public use Monday evenings starting at 5:00 PM\, April through the end of November. We throw practice targets for all 3 disciplines\, singles/caps/doubles on a typical Monday evening.
URL:https://greenrivergunclub.com/event/trap-57/
ORGANIZER;CN="Stephen Summers":MAILTO:Mammothoutdoorsjss@gmail.com
END:VEVENT
BEGIN:VEVENT
DTSTART;TZID=America/Chicago:20230717T170000
DTEND;TZID=America/Chicago:20230717T200000
DTSTAMP:20260423T052146
CREATED:20230131T032120Z
LAST-MODIFIED:20230131T032121Z
UID:10000415-1689613200-1689624000@greenrivergunclub.com
SUMMARY:Trap
DESCRIPTION:GRGC is currently a one trap club\, sanctioned by the ATA to throw registered targets. We feature 36” concrete walkways\, excellent lighting for night shoots and Canterbury Voice Releases. We throw White Flyer Pitch targets to ATA standards from a Pat Trap. Currently the Trap Range is open to member and public use Monday evenings starting at 5:00 PM\, April through the end of November. We throw practice targets for all 3 disciplines\, singles/caps/doubles on a typical Monday evening.
URL:https://greenrivergunclub.com/event/trap-56/
ORGANIZER;CN="Stephen Summers":MAILTO:Mammothoutdoorsjss@gmail.com
END:VEVENT
BEGIN:VEVENT
DTSTART;TZID=America/Chicago:20230703T170000
DTEND;TZID=America/Chicago:20230703T200000
DTSTAMP:20260423T052146
CREATED:20230131T032001Z
LAST-MODIFIED:20230131T032002Z
UID:10000414-1688403600-1688414400@greenrivergunclub.com
SUMMARY:Trap
DESCRIPTION:GRGC is currently a one trap club\, sanctioned by the ATA to throw registered targets. We feature 36” concrete walkways\, excellent lighting for night shoots and Canterbury Voice Releases. We throw White Flyer Pitch targets to ATA standards from a Pat Trap. Currently the Trap Range is open to member and public use Monday evenings starting at 5:00 PM\, April through the end of November. We throw practice targets for all 3 disciplines\, singles/caps/doubles on a typical Monday evening.
URL:https://greenrivergunclub.com/event/trap-55/
ORGANIZER;CN="Stephen Summers":MAILTO:Mammothoutdoorsjss@gmail.com
END:VEVENT
BEGIN:VEVENT
DTSTART;TZID=America/Chicago:20230619T050000
DTEND;TZID=America/Chicago:20230619T200000
DTSTAMP:20260423T052146
CREATED:20230131T031805Z
LAST-MODIFIED:20230131T031806Z
UID:10000413-1687150800-1687204800@greenrivergunclub.com
SUMMARY:Trap
DESCRIPTION:GRGC is currently a one trap club\, sanctioned by the ATA to throw registered targets. We feature 36” concrete walkways\, excellent lighting for night shoots and Canterbury Voice Releases. We throw White Flyer Pitch targets to ATA standards from a Pat Trap. Currently the Trap Range is open to member and public use Monday evenings starting at 5:00 PM\, April through the end of November. We throw practice targets for all 3 disciplines\, singles/caps/doubles on a typical Monday evening.
URL:https://greenrivergunclub.com/event/trap-54/
ORGANIZER;CN="Stephen Summers":MAILTO:Mammothoutdoorsjss@gmail.com
END:VEVENT
BEGIN:VEVENT
DTSTART;TZID=America/Chicago:20230605T170000
DTEND;TZID=America/Chicago:20230605T200000
DTSTAMP:20260423T052146
CREATED:20230131T031650Z
LAST-MODIFIED:20230131T031651Z
UID:10000412-1685984400-1685995200@greenrivergunclub.com
SUMMARY:Trap
DESCRIPTION:GRGC is currently a one trap club\, sanctioned by the ATA to throw registered targets. We feature 36” concrete walkways\, excellent lighting for night shoots and Canterbury Voice Releases. We throw White Flyer Pitch targets to ATA standards from a Pat Trap. Currently the Trap Range is open to member and public use Monday evenings starting at 5:00 PM\, April through the end of November. We throw practice targets for all 3 disciplines\, singles/caps/doubles on a typical Monday evening.
URL:https://greenrivergunclub.com/event/trap-53/
ORGANIZER;CN="Stephen Summers":MAILTO:Mammothoutdoorsjss@gmail.com
END:VEVENT
BEGIN:VEVENT
DTSTART;TZID=America/Chicago:20230603T080000
DTEND;TZID=America/Chicago:20230603T170000
DTSTAMP:20260423T052146
CREATED:20230124T025636Z
LAST-MODIFIED:20230124T025636Z
UID:10000391-1685779200-1685811600@greenrivergunclub.com
SUMMARY:Kentucky 4H Shooting Sports Tournament
DESCRIPTION:
URL:https://greenrivergunclub.com/event/kentucky-4h-shooting-sports-tournament/
ORGANIZER;CN="Stephen Summers":MAILTO:Mammothoutdoorsjss@gmail.com
END:VEVENT
BEGIN:VEVENT
DTSTART;TZID=America/Chicago:20230515T170000
DTEND;TZID=America/Chicago:20230515T200000
DTSTAMP:20260423T052146
CREATED:20230131T031441Z
LAST-MODIFIED:20230131T031442Z
UID:10000411-1684170000-1684180800@greenrivergunclub.com
SUMMARY:Trap
DESCRIPTION:GRGC is currently a one trap club\, sanctioned by the ATA to throw registered targets. We feature 36” concrete walkways\, excellent lighting for night shoots and Canterbury Voice Releases. We throw White Flyer Pitch targets to ATA standards from a Pat Trap. Currently the Trap Range is open to member and public use Monday evenings starting at 5:00 PM\, April through the end of November. We throw practice targets for all 3 disciplines\, singles/caps/doubles on a typical Monday evening.
URL:https://greenrivergunclub.com/event/trap-52/
ORGANIZER;CN="Stephen Summers":MAILTO:Mammothoutdoorsjss@gmail.com
END:VEVENT
BEGIN:VEVENT
DTSTART;TZID=America/Chicago:20230501T170000
DTEND;TZID=America/Chicago:20230501T200000
DTSTAMP:20260423T052146
CREATED:20230131T031327Z
LAST-MODIFIED:20230131T031328Z
UID:10000410-1682960400-1682971200@greenrivergunclub.com
SUMMARY:Trap
DESCRIPTION:GRGC is currently a one trap club\, sanctioned by the ATA to throw registered targets. We feature 36” concrete walkways\, excellent lighting for night shoots and Canterbury Voice Releases. We throw White Flyer Pitch targets to ATA standards from a Pat Trap. Currently the Trap Range is open to member and public use Monday evenings starting at 5:00 PM\, April through the end of November. We throw practice targets for all 3 disciplines\, singles/caps/doubles on a typical Monday evening.
URL:https://greenrivergunclub.com/event/trap-51/
ORGANIZER;CN="Stephen Summers":MAILTO:Mammothoutdoorsjss@gmail.com
END:VEVENT
BEGIN:VEVENT
DTSTART;TZID=America/Chicago:20230417T170000
DTEND;TZID=America/Chicago:20230417T200000
DTSTAMP:20260423T052146
CREATED:20230131T030900Z
LAST-MODIFIED:20230131T030901Z
UID:10000409-1681750800-1681761600@greenrivergunclub.com
SUMMARY:Trap
DESCRIPTION:GRGC is currently a one trap club\, sanctioned by the ATA to throw registered targets. We feature 36” concrete walkways\, excellent lighting for night shoots and Canterbury Voice Releases. We throw White Flyer Pitch targets to ATA standards from a Pat Trap. Currently the Trap Range is open to member and public use Monday evenings starting at 5:00 PM\, April through the end of November. We throw practice targets for all 3 disciplines\, singles/caps/doubles on a typical Monday evening.
URL:https://greenrivergunclub.com/event/trap-50/
ORGANIZER;CN="Stephen Summers":MAILTO:Mammothoutdoorsjss@gmail.com
END:VEVENT
BEGIN:VEVENT
DTSTART;TZID=America/Chicago:20230403T170000
DTEND;TZID=America/Chicago:20230403T200000
DTSTAMP:20260423T052146
CREATED:20230131T030743Z
LAST-MODIFIED:20230131T030744Z
UID:10000408-1680541200-1680552000@greenrivergunclub.com
SUMMARY:Trap
DESCRIPTION:GRGC is currently a one trap club\, sanctioned by the ATA to throw registered targets. We feature 36” concrete walkways\, excellent lighting for night shoots and Canterbury Voice Releases. We throw White Flyer Pitch targets to ATA standards from a Pat Trap. Currently the Trap Range is open to member and public use Monday evenings starting at 5:00 PM\, April through the end of November. We throw practice targets for all 3 disciplines\, singles/caps/doubles on a typical Monday evening.
URL:https://greenrivergunclub.com/event/trap-48/
ORGANIZER;CN="Stephen Summers":MAILTO:Mammothoutdoorsjss@gmail.com
END:VEVENT
BEGIN:VEVENT
DTSTART;TZID=America/Chicago:20230308T080000
DTEND;TZID=America/Chicago:20230308T170000
DTSTAMP:20260423T052146
CREATED:20230305T174045Z
LAST-MODIFIED:20230305T174046Z
UID:10000443-1678262400-1678294800@greenrivergunclub.com
SUMMARY:GRGC Closed for Construction
DESCRIPTION:
URL:https://greenrivergunclub.com/event/grgc-closed-for-construction-3/
ORGANIZER;CN="Stephen Summers":MAILTO:Mammothoutdoorsjss@gmail.com
END:VEVENT
BEGIN:VEVENT
DTSTART;TZID=America/Chicago:20230307T080000
DTEND;TZID=America/Chicago:20230307T170000
DTSTAMP:20260423T052146
CREATED:20230305T174009Z
LAST-MODIFIED:20230305T174009Z
UID:10000442-1678176000-1678208400@greenrivergunclub.com
SUMMARY:GRGC Closed for Construction
DESCRIPTION:
URL:https://greenrivergunclub.com/event/grgc-closed-for-construction-2/
ORGANIZER;CN="Stephen Summers":MAILTO:Mammothoutdoorsjss@gmail.com
END:VEVENT
BEGIN:VEVENT
DTSTART;TZID=America/Chicago:20230306T080000
DTEND;TZID=America/Chicago:20230306T170000
DTSTAMP:20260423T052146
CREATED:20230305T173926Z
LAST-MODIFIED:20230305T173928Z
UID:10000441-1678089600-1678122000@greenrivergunclub.com
SUMMARY:GRGC Closed for Construction
DESCRIPTION:
URL:https://greenrivergunclub.com/event/grgc-closed-for-construction/
ORGANIZER;CN="Stephen Summers":MAILTO:Mammothoutdoorsjss@gmail.com
END:VEVENT
BEGIN:VEVENT
DTSTART;TZID=America/Chicago:20230302T190000
DTEND;TZID=America/Chicago:20230302T210000
DTSTAMP:20260423T052146
CREATED:20230124T023313Z
LAST-MODIFIED:20230124T023314Z
UID:10000388-1677783600-1677790800@greenrivergunclub.com
SUMMARY:Annual GRGC Meeting
DESCRIPTION:Annual Green River Gun Club Meeting
URL:https://greenrivergunclub.com/event/annual-grgc-meeting/
LOCATION:La Gala\, 601 State Street\, Bowling Green\, Kentucky\, 42101\, United States
ORGANIZER;CN="Stephen Summers":MAILTO:Mammothoutdoorsjss@gmail.com
END:VEVENT
BEGIN:VEVENT
DTSTART;TZID=America/Chicago:20221125T080000
DTEND;TZID=America/Chicago:20221125T170000
DTSTAMP:20260423T052146
CREATED:20220820T155403Z
LAST-MODIFIED:20220820T155404Z
UID:10000374-1669363200-1669395600@greenrivergunclub.com
SUMMARY:3D Archery Tournament
DESCRIPTION:Black Friday 3D Archery Tournament
URL:https://greenrivergunclub.com/event/3d-archery-tournament/
ORGANIZER;CN="Stephen Summers":MAILTO:Mammothoutdoorsjss@gmail.com
END:VEVENT
BEGIN:VEVENT
DTSTART;TZID=America/Chicago:20221121T170000
DTEND;TZID=America/Chicago:20221121T200000
DTSTAMP:20260423T052146
CREATED:20220208T031750Z
LAST-MODIFIED:20220208T031756Z
UID:10000358-1669050000-1669060800@greenrivergunclub.com
SUMMARY:Trap
DESCRIPTION:GRGC is currently a one trap club\, sanctioned by the ATA to throw registered targets. We feature 36” concrete walkways\, excellent lighting for night shoots and Canterbury Voice Releases. We throw White Flyer Pitch targets to ATA standards from a Pat Trap. Currently the Trap Range is open to member and public use Monday evenings starting at 5:00 PM\, April through the end of November. We throw practice targets for all 3 disciplines\, singles/caps/doubles on a typical Monday evening.
URL:https://greenrivergunclub.com/event/trap-49/
ORGANIZER;CN="Stephen Summers":MAILTO:Mammothoutdoorsjss@gmail.com
END:VEVENT
BEGIN:VEVENT
DTSTART;TZID=America/Chicago:20221119T080000
DTEND;TZID=America/Chicago:20221119T170000
DTSTAMP:20260423T052146
CREATED:20221016T231920Z
LAST-MODIFIED:20221016T231920Z
UID:10000386-1668844800-1668877200@greenrivergunclub.com
SUMMARY:WKU PD Event
DESCRIPTION:Pistol Bays and the Rimfire Range will be closed all day.
URL:https://greenrivergunclub.com/event/wku-pd-event/
ORGANIZER;CN="Stephen Summers":MAILTO:Mammothoutdoorsjss@gmail.com
END:VEVENT
BEGIN:VEVENT
DTSTART;TZID=America/Chicago:20221107T170000
DTEND;TZID=America/Chicago:20221107T200000
DTSTAMP:20260423T052146
CREATED:20220202T034212Z
LAST-MODIFIED:20220202T034218Z
UID:10000357-1667840400-1667851200@greenrivergunclub.com
SUMMARY:Trap
DESCRIPTION:GRGC is currently a one trap club\, sanctioned by the ATA to throw registered targets. We feature 36” concrete walkways\, excellent lighting for night shoots and Canterbury Voice Releases. We throw White Flyer Pitch targets to ATA standards from a Pat Trap. Currently the Trap Range is open to member and public use Monday evenings starting at 5:00 PM\, April through the end of November. We throw practice targets for all 3 disciplines\, singles/caps/doubles on a typical Monday evening.
URL:https://greenrivergunclub.com/event/trap-47/
ORGANIZER;CN="Stephen Summers":MAILTO:Mammothoutdoorsjss@gmail.com
END:VEVENT
BEGIN:VEVENT
DTSTART;TZID=America/Chicago:20221022T080000
DTEND;TZID=America/Chicago:20221022T170000
DTSTAMP:20260423T052146
CREATED:20220923T021323Z
LAST-MODIFIED:20220923T021324Z
UID:10000381-1666425600-1666458000@greenrivergunclub.com
SUMMARY:3D Archery Tournament
DESCRIPTION:WKU Ducks Unlimited is hosting this fund raiser 3D Archery Tournament that is open to the public
URL:https://greenrivergunclub.com/event/3d-archery-tournament-2/
LOCATION:Green River Gun Club\, Bowling Green\, KY
ORGANIZER;CN="Stephen Summers":MAILTO:Mammothoutdoorsjss@gmail.com
END:VEVENT
BEGIN:VEVENT
DTSTART;TZID=America/Chicago:20221017T170000
DTEND;TZID=America/Chicago:20221017T200000
DTSTAMP:20260423T052146
CREATED:20220202T032653Z
LAST-MODIFIED:20220202T032659Z
UID:10000351-1666026000-1666036800@greenrivergunclub.com
SUMMARY:Trap
DESCRIPTION:GRGC is currently a one trap club\, sanctioned by the ATA to throw registered targets. We feature 36” concrete walkways\, excellent lighting for night shoots and Canterbury Voice Releases. We throw White Flyer Pitch targets to ATA standards from a Pat Trap. Currently the Trap Range is open to member and public use Monday evenings starting at 5:00 PM\, April through the end of November. We throw practice targets for all 3 disciplines\, singles/caps/doubles on a typical Monday evening.
URL:https://greenrivergunclub.com/event/trap-46/
ORGANIZER;CN="Stephen Summers":MAILTO:Mammothoutdoorsjss@gmail.com
END:VEVENT
END:VCALENDAR