BEGIN:VCALENDAR
VERSION:2.0
PRODID:-//Green River Gun Club - ECPv6.15.20//NONSGML v1.0//EN
CALSCALE:GREGORIAN
METHOD:PUBLISH
X-WR-CALNAME:Green River Gun Club
X-ORIGINAL-URL:https://greenrivergunclub.com
X-WR-CALDESC:Events for Green River Gun Club
REFRESH-INTERVAL;VALUE=DURATION:PT1H
X-Robots-Tag:noindex
X-PUBLISHED-TTL:PT1H
BEGIN:VTIMEZONE
TZID:America/Chicago
BEGIN:DAYLIGHT
TZOFFSETFROM:-0600
TZOFFSETTO:-0500
TZNAME:CDT
DTSTART:20190310T080000
END:DAYLIGHT
BEGIN:STANDARD
TZOFFSETFROM:-0500
TZOFFSETTO:-0600
TZNAME:CST
DTSTART:20191103T070000
END:STANDARD
BEGIN:DAYLIGHT
TZOFFSETFROM:-0600
TZOFFSETTO:-0500
TZNAME:CDT
DTSTART:20200308T080000
END:DAYLIGHT
BEGIN:STANDARD
TZOFFSETFROM:-0500
TZOFFSETTO:-0600
TZNAME:CST
DTSTART:20201101T070000
END:STANDARD
BEGIN:DAYLIGHT
TZOFFSETFROM:-0600
TZOFFSETTO:-0500
TZNAME:CDT
DTSTART:20210314T080000
END:DAYLIGHT
BEGIN:STANDARD
TZOFFSETFROM:-0500
TZOFFSETTO:-0600
TZNAME:CST
DTSTART:20211107T070000
END:STANDARD
END:VTIMEZONE
BEGIN:VEVENT
DTSTART;TZID=America/Chicago:20201012T170000
DTEND;TZID=America/Chicago:20201012T170000
DTSTAMP:20260423T135919
CREATED:20200901T101552Z
LAST-MODIFIED:20200901T101553Z
UID:10000207-1602522000-1602522000@greenrivergunclub.com
SUMMARY:Trap
DESCRIPTION:
URL:https://greenrivergunclub.com/event/trap-6/
ORGANIZER;CN="Stephen Summers":MAILTO:Mammothoutdoorsjss@gmail.com
END:VEVENT
BEGIN:VEVENT
DTSTART;TZID=America/Chicago:20201005T170000
DTEND;TZID=America/Chicago:20201005T170000
DTSTAMP:20260423T135919
CREATED:20200901T101349Z
LAST-MODIFIED:20200901T101350Z
UID:10000205-1601917200-1601917200@greenrivergunclub.com
SUMMARY:Trap
DESCRIPTION:Match starts @ 5:00 PM
URL:https://greenrivergunclub.com/event/trap-5/
ORGANIZER;CN="Stephen Summers":MAILTO:Mammothoutdoorsjss@gmail.com
END:VEVENT
BEGIN:VEVENT
DTSTART;TZID=America/Chicago:20201002T090000
DTEND;TZID=America/Chicago:20201002T170000
DTSTAMP:20260423T135919
CREATED:20200929T204049Z
LAST-MODIFIED:20200929T204051Z
UID:10000221-1601629200-1601658000@greenrivergunclub.com
SUMMARY:Main Range closed
DESCRIPTION:The main range will be closed from 9am to 5pm.  The 22 range and Pistol bays will still be available for member use
URL:https://greenrivergunclub.com/event/main-range-closed/
ORGANIZER;CN="Stephen Summers":MAILTO:Mammothoutdoorsjss@gmail.com
END:VEVENT
BEGIN:VEVENT
DTSTART;TZID=America/Chicago:20200928T170000
DTEND;TZID=America/Chicago:20200928T170000
DTSTAMP:20260423T135919
CREATED:20200901T101101Z
LAST-MODIFIED:20200901T101119Z
UID:10000203-1601312400-1601312400@greenrivergunclub.com
SUMMARY:Trap
DESCRIPTION:Match starts @ 5:00 PM
URL:https://greenrivergunclub.com/event/trap-4/
ORGANIZER;CN="Stephen Summers":MAILTO:Mammothoutdoorsjss@gmail.com
END:VEVENT
BEGIN:VEVENT
DTSTART;TZID=America/Chicago:20200927T153000
DTEND;TZID=America/Chicago:20200927T190000
DTSTAMP:20260423T135919
CREATED:20200901T101007Z
LAST-MODIFIED:20200908T130216Z
UID:10000202-1601220600-1601233200@greenrivergunclub.com
SUMMARY:1st Annual Green River Gun Club Picnic
DESCRIPTION:Sunday September 27 all members and their families are invited to the first annual GRGC Club Picnic. All Match Directors have agreed to open one stage of their Match from 3:30-4:30 that afternoon so everyone can see first hand what our Matches are like and shoot them if they choose. Eye and ear protection are required to participate in the match demonstration.Members are allowed/encouraged to set up firearms related trade/sell tables at the trap range if they choose to. Around 5:00 we will grill burgers and hot dogs and feed everyone. Please bring a lawn chair\, pop ups are welcome. To buy the correct quantity of food\, please RSVP member name and number of attendees to: erich.grgc@gmail.com or text to 270-535-5892.
URL:https://greenrivergunclub.com/event/1st-annual-green-river-gun-club-picnic/
ORGANIZER;CN="Stephen Summers":MAILTO:Mammothoutdoorsjss@gmail.com
END:VEVENT
BEGIN:VEVENT
DTSTART;TZID=America/Chicago:20200921T170000
DTEND;TZID=America/Chicago:20200921T170000
DTSTAMP:20260423T135919
CREATED:20200901T100745Z
LAST-MODIFIED:20200901T103006Z
UID:10000200-1600707600-1600707600@greenrivergunclub.com
SUMMARY:Trap
DESCRIPTION:Match starts @ 5:00 PM
URL:https://greenrivergunclub.com/event/trap-3/
ORGANIZER;CN="Stephen Summers":MAILTO:Mammothoutdoorsjss@gmail.com
END:VEVENT
BEGIN:VEVENT
DTSTART;TZID=America/Chicago:20200914T170000
DTEND;TZID=America/Chicago:20200914T170000
DTSTAMP:20260423T135919
CREATED:20200901T095650Z
LAST-MODIFIED:20200901T103138Z
UID:10000196-1600102800-1600102800@greenrivergunclub.com
SUMMARY:Trap
DESCRIPTION:
URL:https://greenrivergunclub.com/event/trap-2/
ORGANIZER;CN="Stephen Summers":MAILTO:Mammothoutdoorsjss@gmail.com
END:VEVENT
BEGIN:VEVENT
DTSTART;TZID=America/Chicago:20200907T170000
DTEND;TZID=America/Chicago:20200907T170000
DTSTAMP:20260423T135919
CREATED:20200901T095357Z
LAST-MODIFIED:20200901T103111Z
UID:10000194-1599498000-1599498000@greenrivergunclub.com
SUMMARY:Trap
DESCRIPTION:Match starts @ 5:00 PM
URL:https://greenrivergunclub.com/event/trap/
ORGANIZER;CN="Stephen Summers":MAILTO:Mammothoutdoorsjss@gmail.com
END:VEVENT
END:VCALENDAR