BEGIN:VCALENDAR
VERSION:2.0
PRODID:-//Green River Gun Club - ECPv6.15.20//NONSGML v1.0//EN
CALSCALE:GREGORIAN
METHOD:PUBLISH
X-ORIGINAL-URL:https://greenrivergunclub.com
X-WR-CALDESC:Events for Green River Gun Club
REFRESH-INTERVAL;VALUE=DURATION:PT1H
X-Robots-Tag:noindex
X-PUBLISHED-TTL:PT1H
BEGIN:VTIMEZONE
TZID:America/Chicago
BEGIN:DAYLIGHT
TZOFFSETFROM:-0600
TZOFFSETTO:-0500
TZNAME:CDT
DTSTART:20190310T080000
END:DAYLIGHT
BEGIN:STANDARD
TZOFFSETFROM:-0500
TZOFFSETTO:-0600
TZNAME:CST
DTSTART:20191103T070000
END:STANDARD
BEGIN:DAYLIGHT
TZOFFSETFROM:-0600
TZOFFSETTO:-0500
TZNAME:CDT
DTSTART:20200308T080000
END:DAYLIGHT
BEGIN:STANDARD
TZOFFSETFROM:-0500
TZOFFSETTO:-0600
TZNAME:CST
DTSTART:20201101T070000
END:STANDARD
BEGIN:DAYLIGHT
TZOFFSETFROM:-0600
TZOFFSETTO:-0500
TZNAME:CDT
DTSTART:20210314T080000
END:DAYLIGHT
BEGIN:STANDARD
TZOFFSETFROM:-0500
TZOFFSETTO:-0600
TZNAME:CST
DTSTART:20211107T070000
END:STANDARD
END:VTIMEZONE
BEGIN:VEVENT
DTSTART;TZID=America/Chicago:20201114T093000
DTEND;TZID=America/Chicago:20201114T093000
DTSTAMP:20260422T084912
CREATED:20200901T102810Z
LAST-MODIFIED:20200923T182938Z
UID:10000218-1605346200-1605346200@greenrivergunclub.com
SUMMARY:Cowboy Match
DESCRIPTION:Registration @ 09:30\, Match starts at 10:00
URL:https://greenrivergunclub.com/event/cowboy-match-4/
LOCATION:Green River Gun Club\, 1718 Prices Chapel Rd\, Bowling Green\, Kentucky\, 42101\, United States
END:VEVENT
BEGIN:VEVENT
DTSTART;TZID=America/Chicago:20201101T130000
DTEND;TZID=America/Chicago:20201101T130000
DTSTAMP:20260422T084912
CREATED:20200901T102627Z
LAST-MODIFIED:20200923T182413Z
UID:10000216-1604235600-1604235600@greenrivergunclub.com
SUMMARY:Steel Plate Match
DESCRIPTION:Shooter’s Meeting @ 1:15 PM\, Match Starts at 1:30 PM
URL:https://greenrivergunclub.com/event/steel-plate-match-3/
LOCATION:Green River Gun Club\, 1718 Prices Chapel Rd\, Bowling Green\, Kentucky\, 42101\, United States
ORGANIZER;CN="Gerry Flanagan":MAILTO:Gflanagan_2000@yahoo.com
END:VEVENT
BEGIN:VEVENT
DTSTART;TZID=America/Chicago:20201031T093000
DTEND;TZID=America/Chicago:20201031T093000
DTSTAMP:20260422T084912
CREATED:20200901T102528Z
LAST-MODIFIED:20200923T182550Z
UID:10000215-1604136600-1604136600@greenrivergunclub.com
SUMMARY:Cowboy Match
DESCRIPTION:Registration @ 09:30\, Match starts at 10:00
URL:https://greenrivergunclub.com/event/cowboy-match-3/
LOCATION:Green River Gun Club\, 1718 Prices Chapel Rd\, Bowling Green\, Kentucky\, 42101\, United States
END:VEVENT
BEGIN:VEVENT
DTSTART;TZID=America/Chicago:20201026T170000
DTEND;TZID=America/Chicago:20201026T170000
DTSTAMP:20260422T084912
CREATED:20200901T102434Z
LAST-MODIFIED:20200923T183027Z
UID:10000214-1603731600-1603731600@greenrivergunclub.com
SUMMARY:Trap
DESCRIPTION:
URL:https://greenrivergunclub.com/event/trap-8/
LOCATION:Green River Gun Club\, 1718 Prices Chapel Rd\, Bowling Green\, Kentucky\, 42101\, United States
ORGANIZER;CN="Stephen Summers":MAILTO:Mammothoutdoorsjss@gmail.com
END:VEVENT
END:VCALENDAR